FILENAME: O4811624.SES.49380.tif
QUADRANGLE_NAME: CURLEY CREEK
QUADRANT: SE
WEST_LONGITUDE: -116 3 45.00000
EAST_LONGITUDE: -116 0 0.00000
NORTH_LATITUDE: 48 41 15.00000
SOUTH_LATITUDE: 48 37 30.00000
PRODUCTION_DATE: 1996 2 23
RASTER_ORDER: LEFT_RIGHT/TOP_BOTTOM
BAND_ORGANIZATION: SINGLE FILE
BAND_CONTENT: BLACK&WHITE
BAND_CONTENT: UNDEFINED
BAND_CONTENT: UNDEFINED
BITS_PER_PIXEL: 8
SAMPLES_AND_LINES: 5368 7616
HORIZONTAL_DATUM: NAD83
HORIZONTAL_COORDINATE_SYSTEM: UTM
COORDINATE_ZONE: 11
HORIZONTAL_UNITS: METERS
HORIZONTAL_RESOLUTION: 1.00000
SECONDARY_HORIZONTAL_DATUM: NAD27
XY_ORIGIN: 568623.00000 5393501.00000
SECONDARY_XY_ORIGIN: 568700.37100 5393289.40100
NATION: US
STATE: MT
STATE: ID
NW_QUAD_CORNER_XY: 568998.68500 5393141.60600
NE_QUAD_CORNER_XY: 573598.54000 5393200.02900
SE_QUAD_CORNERY_XY: 573689.58100 5386252.75100
SW_QUAD_CORNER_XY: 569084.03500 5386194.31200
SECONDARY_NW_QUAD_XY: 569000.88700 5392922.62700
SECONDARY_NE_QUAD_XY: 573600.88900 5392981.05200
SECONDARY_SE_QUAD_XY: 573691.93000 5386033.77900
SECONDARY_SW_QUAD_XY: 569086.23700 5385975.33800
RMSE_XY: 2.80000
IMAGE_SOURCE: BLACK AND WHITE FILM
SOURCE_IMAGE_ID: NAPP 5076 106
SOURCE_IMAGE_DATE: 1992 6 16
SOURCE_DEM_DATE: 1996 2 23
AGENCY: WESTERN MAPPING CENTER (WMC)
PRODUCER: WMC
PRODUCTION_SYSTEM: DV2.6.3 10/9OV2.4 5/95
COMPRESSION: UNDEFINED
STANDARD_VERSION: 1996 12
METADATA_DATE: 1997 7 11
DATA_FILE_SIZE: 40888056
BYTE_COUNT: 5368
