FILENAME: O4811648.SES.56753.tif
QUADRANGLE_NAME: BENNING MOUNTAIN
QUADRANT: SE
WEST_LONGITUDE: -116 3 45.00000
EAST_LONGITUDE: -116 0 0.00000
NORTH_LATITUDE: 48 18 45.00000
SOUTH_LATITUDE: 48 15 0.00000
PRODUCTION_DATE: 1997 2 22
RASTER_ORDER: LEFT_RIGHT/TOP_BOTTOM
BAND_ORGANIZATION: SINGLE FILE
BAND_CONTENT: BLACK&WHITE
BAND_CONTENT: UNDEFINED
BAND_CONTENT: UNDEFINED
BITS_PER_PIXEL: 8
SAMPLES_AND_LINES: 5402 7618
HORIZONTAL_DATUM: NAD83
HORIZONTAL_COORDINATE_SYSTEM: UTM
COORDINATE_ZONE: 11
HORIZONTAL_UNITS: METERS
HORIZONTAL_RESOLUTION: 1.00000
SECONDARY_HORIZONTAL_DATUM: NAD27
XY_ORIGIN: 569134.00000 5351826.00000
SECONDARY_XY_ORIGIN: 569210.47000 5351614.98000
NATION: US
STATE: MT
STATE: ID
NW_QUAD_CORNER_XY: 569509.61000 5351458.90000
NE_QUAD_CORNER_XY: 574143.53000 5351517.42000
SE_QUAD_CORNERY_XY: 574234.03000 5344570.58000
SW_QUAD_CORNER_XY: 569594.46000 5344512.05000
SECONDARY_NW_QUAD_XY: 569511.81000 5351239.97000
SECONDARY_NE_QUAD_XY: 574145.87000 5351298.49000
SECONDARY_SE_QUAD_XY: 574236.38000 5344351.66000
SECONDARY_SW_QUAD_XY: 569596.66000 5344293.13000
RMSE_XY: 3.70000
IMAGE_SOURCE: BLACK AND WHITE FILM
SOURCE_IMAGE_ID: NAPP 8417 51
SOURCE_IMAGE_DATE: 1995 7 28
SOURCE_IMAGE_ID: NAPP 8417 24
SOURCE_IMAGE_DATE: 1995 7 28
SOURCE_DEM_DATE: 1997 2 22
AGENCY: WESTERN MAPPING CENTER (WMC)
PRODUCER: USFS
PRODUCTION_SYSTEM: DV2.6.3 10/9OV2.4 5/95
COMPRESSION: UNDEFINED
STANDARD_VERSION: 1996 12
METADATA_DATE: 1997 11 2
DATA_FILE_SIZE: 41157838
BYTE_COUNT: 5402
