FILENAME: O4811501.SWS.56745.tif
QUADRANGLE_NAME: NORTHWEST PEAK
QUADRANT: SW
WEST_LONGITUDE: -116 0 0.00000
EAST_LONGITUDE: -115 56 15.00000
NORTH_LATITUDE: 48 56 15.00000
SOUTH_LATITUDE: 48 52 30.00000
PRODUCTION_DATE: 1997 3 12
RASTER_ORDER: LEFT_RIGHT/TOP_BOTTOM
BAND_ORGANIZATION: SINGLE FILE
BAND_CONTENT: BLACK&WHITE
BAND_CONTENT: UNDEFINED
BAND_CONTENT: UNDEFINED
BITS_PER_PIXEL: 8
SAMPLES_AND_LINES: 5353 7620
HORIZONTAL_DATUM: NAD83
HORIZONTAL_COORDINATE_SYSTEM: UTM
COORDINATE_ZONE: 11
HORIZONTAL_UNITS: METERS
HORIZONTAL_RESOLUTION: 1.00000
SECONDARY_HORIZONTAL_DATUM: NAD27
XY_ORIGIN: 572857.00000 5421357.00000
SECONDARY_XY_ORIGIN: 572934.59000 5421144.32000
NATION: US
STATE: MT
NW_QUAD_CORNER_XY: 573233.56000 5420989.84000
NE_QUAD_CORNER_XY: 577810.58000 5421051.96000
SE_QUAD_CORNERY_XY: 577907.69000 5414104.40000
SW_QUAD_CORNER_XY: 573324.95000 5414042.26000
SECONDARY_NW_QUAD_XY: 573235.91000 5420770.84000
SECONDARY_NE_QUAD_XY: 577813.08000 5420832.97000
SECONDARY_SE_QUAD_XY: 577910.19000 5413885.42000
SECONDARY_SW_QUAD_XY: 573327.30000 5413823.27000
RMSE_XY: 2.00000
IMAGE_SOURCE: BLACK AND WHITE FILM
SOURCE_IMAGE_ID: NAPP 8419 70
SOURCE_IMAGE_DATE: 1995 8 21
SOURCE_IMAGE_ID: NAPP 8419 69
SOURCE_IMAGE_DATE: 1995 8 21
SOURCE_DEM_DATE: 1997 3 12
AGENCY: WESTERN MAPPING CENTER (WMC)
PRODUCER: USFS
PRODUCTION_SYSTEM: DV2.6.3 10/9OV2.4 5/95
COMPRESSION: UNDEFINED
STANDARD_VERSION: 1996 12
METADATA_DATE: 1997 11 2
DATA_FILE_SIZE: 40795213
BYTE_COUNT: 5353
