FILENAME: O4811501.NES.56726.tif
QUADRANGLE_NAME: NORTHWEST PEAK
QUADRANT: NE
WEST_LONGITUDE: -115 56 15.00000
EAST_LONGITUDE: -115 52 30.00000
NORTH_LATITUDE: 49 0 0.00000
SOUTH_LATITUDE: 48 56 15.00000
PRODUCTION_DATE: 1997 3 28
RASTER_ORDER: LEFT_RIGHT/TOP_BOTTOM
BAND_ORGANIZATION: SINGLE FILE
BAND_CONTENT: BLACK&WHITE
BAND_CONTENT: UNDEFINED
BAND_CONTENT: UNDEFINED
BITS_PER_PIXEL: 8
SAMPLES_AND_LINES: 5352 7622
HORIZONTAL_DATUM: NAD83
HORIZONTAL_COORDINATE_SYSTEM: UTM
COORDINATE_ZONE: 11
HORIZONTAL_UNITS: METERS
HORIZONTAL_RESOLUTION: 1.00000
SECONDARY_HORIZONTAL_DATUM: NAD27
XY_ORIGIN: 577337.00000 5428366.00000
SECONDARY_XY_ORIGIN: 577414.62600 5428153.01200
NATION: US
STATE: MT
NW_QUAD_CORNER_XY: 577713.31800 5427999.62600
NE_QUAD_CORNER_XY: 582284.61100 5428065.49300
SE_QUAD_CORNERY_XY: 582387.53000 5421117.88600
SW_QUAD_CORNER_XY: 577810.51800 5421051.99900
SECONDARY_NW_QUAD_XY: 577715.81400 5427780.63300
SECONDARY_NE_QUAD_XY: 582287.25300 5427846.50200
SECONDARY_SE_QUAD_XY: 582390.17200 5420898.89700
SECONDARY_SW_QUAD_XY: 577813.01400 5420833.00800
RMSE_XY: 3.50000
IMAGE_SOURCE: BLACK AND WHITE FILM
SOURCE_IMAGE_ID: NAPP 8419 188
SOURCE_IMAGE_DATE: 1995 8 21
SOURCE_DEM_DATE: 1997 3 28
AGENCY: WESTERN MAPPING CENTER (WMC)
PRODUCER: USFS
PRODUCTION_SYSTEM: DV2.6.3 10/9OV2.4 5/95
COMPRESSION: UNDEFINED
STANDARD_VERSION: 1996 12
METADATA_DATE: 1997 11 2
DATA_FILE_SIZE: 40798296
BYTE_COUNT: 5352
