FILENAME: O4811502.NWS.56706.tif
QUADRANGLE_NAME: GARVER MOUNTAIN
QUADRANT: NW
WEST_LONGITUDE: -115 52 30.00000
EAST_LONGITUDE: -115 48 45.00000
NORTH_LATITUDE: 49 0 0.00000
SOUTH_LATITUDE: 48 56 15.00000
PRODUCTION_DATE: 1997 3 28
RASTER_ORDER: LEFT_RIGHT/TOP_BOTTOM
BAND_ORGANIZATION: SINGLE FILE
BAND_CONTENT: BLACK&WHITE
BAND_CONTENT: UNDEFINED
BAND_CONTENT: UNDEFINED
BITS_PER_PIXEL: 8
SAMPLES_AND_LINES: 5356 7626
HORIZONTAL_DATUM: NAD83
HORIZONTAL_COORDINATE_SYSTEM: UTM
COORDINATE_ZONE: 11
HORIZONTAL_UNITS: METERS
HORIZONTAL_RESOLUTION: 1.00000
SECONDARY_HORIZONTAL_DATUM: NAD27
XY_ORIGIN: 581909.00000 5428436.00000
SECONDARY_XY_ORIGIN: 581986.63400 5428222.99800
NATION: US
STATE: MT
NW_QUAD_CORNER_XY: 582284.61100 5428065.49300
NE_QUAD_CORNER_XY: 586855.89000 5428135.12500
SE_QUAD_CORNERY_XY: 586964.52800 5421187.53800
SW_QUAD_CORNER_XY: 582387.53000 5421117.88600
SECONDARY_NW_QUAD_XY: 582287.25300 5427846.50200
SECONDARY_NE_QUAD_XY: 586858.68000 5427916.13600
SECONDARY_SE_QUAD_XY: 586967.31700 5420968.55200
SECONDARY_SW_QUAD_XY: 582390.17200 5420898.89700
RMSE_XY: 2.20000
IMAGE_SOURCE: BLACK AND WHITE FILM
SOURCE_IMAGE_ID: NAPP 8421 177
SOURCE_IMAGE_DATE: 1995 8 21
SOURCE_DEM_DATE: 1997 3 28
AGENCY: WESTERN MAPPING CENTER (WMC)
PRODUCER: USFS
PRODUCTION_SYSTEM: DV2.6.3 10/9OV2.4 5/95
COMPRESSION: UNDEFINED
STANDARD_VERSION: 1996 12
METADATA_DATE: 1997 11 2
DATA_FILE_SIZE: 40850212
BYTE_COUNT: 5356
