FILENAME: O4811503.NWS.56662.tif
QUADRANGLE_NAME: BONNET TOP
QUADRANT: NW
WEST_LONGITUDE: -115 45 0.00000
EAST_LONGITUDE: -115 41 15.00000
NORTH_LATITUDE: 49 0 0.00000
SOUTH_LATITUDE: 48 56 15.00000
PRODUCTION_DATE: 1997 3 28
RASTER_ORDER: LEFT_RIGHT/TOP_BOTTOM
BAND_ORGANIZATION: SINGLE FILE
BAND_CONTENT: BLACK&WHITE
BAND_CONTENT: UNDEFINED
BAND_CONTENT: UNDEFINED
BITS_PER_PIXEL: 8
SAMPLES_AND_LINES: 5368 7634
HORIZONTAL_DATUM: NAD83
HORIZONTAL_COORDINATE_SYSTEM: UTM
COORDINATE_ZONE: 11
HORIZONTAL_UNITS: METERS
HORIZONTAL_RESOLUTION: 1.00000
SECONDARY_HORIZONTAL_DATUM: NAD27
XY_ORIGIN: 591051.00000 5428587.00000
SECONDARY_XY_ORIGIN: 591128.65000 5428373.97100
NATION: US
STATE: MT
NW_QUAD_CORNER_XY: 591427.15500 5428208.52100
NE_QUAD_CORNER_XY: 595998.40500 5428285.68200
SE_QUAD_CORNERY_XY: 596118.48100 5421338.14100
SW_QUAD_CORNER_XY: 591541.51200 5421260.95700
SECONDARY_NW_QUAD_XY: 591430.09100 5427989.53500
SECONDARY_NE_QUAD_XY: 596001.48800 5428066.69800
SECONDARY_SE_QUAD_XY: 596121.56500 5421119.15900
SECONDARY_SW_QUAD_XY: 591544.44800 5421041.97200
RMSE_XY: 2.30000
IMAGE_SOURCE: BLACK AND WHITE FILM
SOURCE_IMAGE_ID: NAPP 8419 52
SOURCE_IMAGE_DATE: 1995 8 21
SOURCE_DEM_DATE: 1997 3 28
AGENCY: WESTERN MAPPING CENTER (WMC)
PRODUCER: USFS
PRODUCTION_SYSTEM: DV2.6.3 10/9OV2.4 5/95
COMPRESSION: UNDEFINED
STANDARD_VERSION: 1996 12
METADATA_DATE: 1997 11 2
DATA_FILE_SIZE: 40984680
BYTE_COUNT: 5368
