FILENAME: O4811504.SES.56591.tif
QUADRANGLE_NAME: MOUNT HENRY
QUADRANT: SE
WEST_LONGITUDE: -115 33 45.00000
EAST_LONGITUDE: -115 30 0.00000
NORTH_LATITUDE: 48 56 15.00000
SOUTH_LATITUDE: 48 52 30.00000
PRODUCTION_DATE: 1997 3 12
RASTER_ORDER: LEFT_RIGHT/TOP_BOTTOM
BAND_ORGANIZATION: SINGLE FILE
BAND_CONTENT: BLACK&WHITE
BAND_CONTENT: UNDEFINED
BAND_CONTENT: UNDEFINED
BITS_PER_PIXEL: 8
SAMPLES_AND_LINES: 5388 7645
HORIZONTAL_DATUM: NAD83
HORIZONTAL_COORDINATE_SYSTEM: UTM
COORDINATE_ZONE: 11
HORIZONTAL_UNITS: METERS
HORIZONTAL_RESOLUTION: 1.00000
SECONDARY_HORIZONTAL_DATUM: NAD27
XY_ORIGIN: 604897.00000 5421893.00000
SECONDARY_XY_ORIGIN: 604974.72600 5421680.07600
NATION: US
STATE: MT
NW_QUAD_CORNER_XY: 605272.37300 5421503.80900
NE_QUAD_CORNER_XY: 609849.29300 5421592.29200
SE_QUAD_CORNERY_XY: 609986.39700 5414644.89800
SW_QUAD_CORNER_XY: 605403.76200 5414556.38900
SECONDARY_NW_QUAD_XY: 605275.75000 5421284.83200
SECONDARY_NE_QUAD_XY: 609852.81700 5421373.31800
SECONDARY_SE_QUAD_XY: 609989.92100 5414425.92700
SECONDARY_SW_QUAD_XY: 605407.13900 5414337.41500
RMSE_XY: 5.70000
IMAGE_SOURCE: BLACK AND WHITE FILM
SOURCE_IMAGE_ID: NAPP 8419 153
SOURCE_IMAGE_DATE: 1995 8 21
SOURCE_DEM_DATE: 1997 3 12
AGENCY: WESTERN MAPPING CENTER (WMC)
PRODUCER: USFS
PRODUCTION_SYSTEM: DV2.6.3 10/9OV2.4 5/95
COMPRESSION: UNDEFINED
STANDARD_VERSION: 1996 12
METADATA_DATE: 1997 11 2
DATA_FILE_SIZE: 41196648
BYTE_COUNT: 5388
