FILENAME: O4811504.NES.56592.tif
QUADRANGLE_NAME: MOUNT HENRY
QUADRANT: NE
WEST_LONGITUDE: -115 33 45.00000
EAST_LONGITUDE: -115 30 0.00000
NORTH_LATITUDE: 49 0 0.00000
SOUTH_LATITUDE: 48 56 15.00000
PRODUCTION_DATE: 1997 3 28
RASTER_ORDER: LEFT_RIGHT/TOP_BOTTOM
BAND_ORGANIZATION: SINGLE FILE
BAND_CONTENT: BLACK&WHITE
BAND_CONTENT: UNDEFINED
BAND_CONTENT: UNDEFINED
BITS_PER_PIXEL: 8
SAMPLES_AND_LINES: 5384 7645
HORIZONTAL_DATUM: NAD83
HORIZONTAL_COORDINATE_SYSTEM: UTM
COORDINATE_ZONE: 11
HORIZONTAL_UNITS: METERS
HORIZONTAL_RESOLUTION: 1.00000
SECONDARY_HORIZONTAL_DATUM: NAD27
XY_ORIGIN: 604765.00000 5428841.00000
SECONDARY_XY_ORIGIN: 604842.00000 5428628.00000
NATION: US
STATE: MT
NW_QUAD_CORNER_XY: 605140.85700 5428451.30000
NE_QUAD_CORNER_XY: 609712.05700 5428539.75600
SE_QUAD_CORNERY_XY: 609849.29300 5421592.29200
SW_QUAD_CORNER_XY: 605272.37300 5421503.80900
SECONDARY_NW_QUAD_XY: 605144.23400 5428232.32100
SECONDARY_NE_QUAD_XY: 609715.58100 5428320.78100
SECONDARY_SE_QUAD_XY: 609852.81700 5421373.31800
SECONDARY_SW_QUAD_XY: 605275.75000 5421284.83200
RMSE_XY: 2.20000
IMAGE_SOURCE: BLACK AND WHITE FILM
SOURCE_IMAGE_ID: NAPP 8419 151
SOURCE_IMAGE_DATE: 1995 8 21
SOURCE_DEM_DATE: 1997 3 28
AGENCY: WESTERN MAPPING CENTER (WMC)
PRODUCER: USFS
PRODUCTION_SYSTEM: DV2.6.3 10/9OV2.4 5/95
COMPRESSION: UNDEFINED
STANDARD_VERSION: 1996 12
METADATA_DATE: 1997 11 2
DATA_FILE_SIZE: 41166064
BYTE_COUNT: 5384
