FILENAME: O4811505.NWS.56570.tif
QUADRANGLE_NAME: ROBINSON MOUNTAIN
QUADRANT: NW
WEST_LONGITUDE: -115 30 0.00000
EAST_LONGITUDE: -115 26 15.00000
NORTH_LATITUDE: 49 0 0.00000
SOUTH_LATITUDE: 48 56 15.00000
PRODUCTION_DATE: 1997 3 27
RASTER_ORDER: LEFT_RIGHT/TOP_BOTTOM
BAND_ORGANIZATION: SINGLE FILE
BAND_CONTENT: BLACK&WHITE
BAND_CONTENT: UNDEFINED
BAND_CONTENT: UNDEFINED
BITS_PER_PIXEL: 8
SAMPLES_AND_LINES: 5390 7651
HORIZONTAL_DATUM: NAD83
HORIZONTAL_COORDINATE_SYSTEM: UTM
COORDINATE_ZONE: 11
HORIZONTAL_UNITS: METERS
HORIZONTAL_RESOLUTION: 1.00000
SECONDARY_HORIZONTAL_DATUM: NAD27
XY_ORIGIN: 609337.00000 5428941.00000
SECONDARY_XY_ORIGIN: 609414.78000 5428727.90000
NATION: US
STATE: MT
NW_QUAD_CORNER_XY: 609712.12000 5428539.72000
NE_QUAD_CORNER_XY: 614283.31000 5428631.94000
SE_QUAD_CORNERY_XY: 614426.26000 5421684.50000
SW_QUAD_CORNER_XY: 609849.36000 5421592.25000
SECONDARY_NW_QUAD_XY: 609715.65000 5428320.74000
SECONDARY_NE_QUAD_XY: 614286.98000 5428412.96000
SECONDARY_SE_QUAD_XY: 614429.93000 5421465.53000
SECONDARY_SW_QUAD_XY: 609852.88000 5421373.28000
RMSE_XY: 5.10000
IMAGE_SOURCE: BLACK AND WHITE FILM
SOURCE_IMAGE_ID: NAPP 8419 205
SOURCE_IMAGE_DATE: 1995 8 21
SOURCE_IMAGE_ID: NAPP 8419 207
SOURCE_IMAGE_DATE: 1995 8 21
SOURCE_IMAGE_ID: NAPP 8419 24
SOURCE_IMAGE_DATE: 1995 8 21
SOURCE_DEM_DATE: 1997 3 27
AGENCY: WESTERN MAPPING CENTER (WMC)
PRODUCER: USFS
PRODUCTION_SYSTEM: DV2.6.3 10/9OV2.4 5/95
COMPRESSION: UNDEFINED
STANDARD_VERSION: 1996 12
METADATA_DATE: 1997 11 2
DATA_FILE_SIZE: 41244280
BYTE_COUNT: 5390
