FILENAME: O4811505.NES.56548.tif
QUADRANGLE_NAME: ROBINSON MOUNTAIN
QUADRANT: NE
WEST_LONGITUDE: -115 26 15.00000
EAST_LONGITUDE: -115 22 30.00000
NORTH_LATITUDE: 49 0 0.00000
SOUTH_LATITUDE: 48 56 15.00000
PRODUCTION_DATE: 1997 3 27
RASTER_ORDER: LEFT_RIGHT/TOP_BOTTOM
BAND_ORGANIZATION: SINGLE FILE
BAND_CONTENT: BLACK&WHITE
BAND_CONTENT: UNDEFINED
BAND_CONTENT: UNDEFINED
BITS_PER_PIXEL: 8
SAMPLES_AND_LINES: 5398 7654
HORIZONTAL_DATUM: NAD83
HORIZONTAL_COORDINATE_SYSTEM: UTM
COORDINATE_ZONE: 11
HORIZONTAL_UNITS: METERS
HORIZONTAL_RESOLUTION: 1.00000
SECONDARY_HORIZONTAL_DATUM: NAD27
XY_ORIGIN: 613908.00000 5429037.00000
SECONDARY_XY_ORIGIN: 613985.78000 5428823.87000
NATION: US
STATE: MT
NW_QUAD_CORNER_XY: 614283.31000 5428631.94000
NE_QUAD_CORNER_XY: 618854.47000 5428727.92000
SE_QUAD_CORNERY_XY: 619003.15000 5421780.52000
SW_QUAD_CORNER_XY: 614426.26000 5421684.50000
SECONDARY_NW_QUAD_XY: 614286.98000 5428412.96000
SECONDARY_NE_QUAD_XY: 618858.29000 5428508.96000
SECONDARY_SE_QUAD_XY: 619006.96000 5421561.55000
SECONDARY_SW_QUAD_XY: 614429.93000 5421465.53000
RMSE_XY: 5.10000
IMAGE_SOURCE: BLACK AND WHITE FILM
SOURCE_IMAGE_ID: NAPP 8423 24
SOURCE_IMAGE_DATE: 1995 9 12
SOURCE_IMAGE_ID: NAPP 8423 8419
SOURCE_IMAGE_DATE: 1995 9 12
SOURCE_IMAGE_ID: NAPP 8423 205
SOURCE_IMAGE_DATE: 1995 9 12
SOURCE_DEM_DATE: 1997 3 27
AGENCY: WESTERN MAPPING CENTER (WMC)
PRODUCER: USFS
PRODUCTION_SYSTEM: DV2.6.3 10/9OV2.4 5/95
COMPRESSION: UNDEFINED
STANDARD_VERSION: 1996 12
METADATA_DATE: 1997 11 2
DATA_FILE_SIZE: 41321690
BYTE_COUNT: 5398
