FILENAME: O4811506.SWS.56525.tif
QUADRANGLE_NAME: RED MOUNTAIN
QUADRANT: SW
WEST_LONGITUDE: -115 22 30.00000
EAST_LONGITUDE: -115 18 45.00000
NORTH_LATITUDE: 48 56 15.00000
SOUTH_LATITUDE: 48 52 30.00000
PRODUCTION_DATE: 1997 3 27
RASTER_ORDER: LEFT_RIGHT/TOP_BOTTOM
BAND_ORGANIZATION: SINGLE FILE
BAND_CONTENT: BLACK&WHITE
BAND_CONTENT: UNDEFINED
BAND_CONTENT: UNDEFINED
BITS_PER_PIXEL: 8
SAMPLES_AND_LINES: 5408 7656
HORIZONTAL_DATUM: NAD83
HORIZONTAL_COORDINATE_SYSTEM: UTM
COORDINATE_ZONE: 11
HORIZONTAL_UNITS: METERS
HORIZONTAL_RESOLUTION: 1.00000
SECONDARY_HORIZONTAL_DATUM: NAD27
XY_ORIGIN: 618628.00000 5422181.00000
SECONDARY_XY_ORIGIN: 618705.78200 5421967.94800
NATION: US
STATE: MT
NW_QUAD_CORNER_XY: 619003.08000 5421780.55900
NE_QUAD_CORNER_XY: 623579.94500 5421880.34300
SE_QUAD_CORNERY_XY: 623734.19500 5414933.03400
SW_QUAD_CORNER_XY: 619151.61400 5414833.22100
SECONDARY_NW_QUAD_XY: 619006.89700 5421561.59100
SECONDARY_NE_QUAD_XY: 623583.90900 5421661.37800
SECONDARY_SE_QUAD_XY: 623738.15900 5414714.07300
SECONDARY_SW_QUAD_XY: 619155.43200 5414614.25600
RMSE_XY: 3.90000
IMAGE_SOURCE: BLACK AND WHITE FILM
SOURCE_IMAGE_ID: NAPP 8418 4
SOURCE_IMAGE_DATE: 1995 8 5
SOURCE_DEM_DATE: 1997 3 27
AGENCY: WESTERN MAPPING CENTER (WMC)
PRODUCER: USFS
PRODUCTION_SYSTEM: DV2.6.3 10/9OV2.4 5/95
COMPRESSION: UNDEFINED
STANDARD_VERSION: 1996 12
METADATA_DATE: 1997 11 2
DATA_FILE_SIZE: 41409056
BYTE_COUNT: 5408
