FILENAME: O4811506.NWS.56526.tif
QUADRANGLE_NAME: RED MOUNTAIN
QUADRANT: NW
WEST_LONGITUDE: -115 22 30.00000
EAST_LONGITUDE: -115 18 45.00000
NORTH_LATITUDE: 49 0 0.00000
SOUTH_LATITUDE: 48 56 15.00000
PRODUCTION_DATE: 1997 4 2
RASTER_ORDER: LEFT_RIGHT/TOP_BOTTOM
BAND_ORGANIZATION: SINGLE FILE
BAND_CONTENT: BLACK&WHITE
BAND_CONTENT: UNDEFINED
BAND_CONTENT: UNDEFINED
BITS_PER_PIXEL: 8
SAMPLES_AND_LINES: 5400 7656
HORIZONTAL_DATUM: NAD83
HORIZONTAL_COORDINATE_SYSTEM: UTM
COORDINATE_ZONE: 11
HORIZONTAL_UNITS: METERS
HORIZONTAL_RESOLUTION: 1.00000
SECONDARY_HORIZONTAL_DATUM: NAD27
XY_ORIGIN: 618479.00000 5429129.00000
SECONDARY_XY_ORIGIN: 618556.77900 5428915.84300
NATION: US
STATE: MT
NW_QUAD_CORNER_XY: 618854.40300 5428727.96700
NE_QUAD_CORNER_XY: 623425.54700 5428827.72000
SE_QUAD_CORNERY_XY: 623579.94500 5421880.34300
SW_QUAD_CORNER_XY: 619003.08000 5421780.55900
SECONDARY_NW_QUAD_XY: 618858.22000 5428508.99700
SECONDARY_NE_QUAD_XY: 623429.51100 5428608.75400
SECONDARY_SE_QUAD_XY: 623583.90900 5421661.37800
SECONDARY_SW_QUAD_XY: 619006.89700 5421561.59100
RMSE_XY: 3.40000
IMAGE_SOURCE: BLACK AND WHITE FILM
SOURCE_IMAGE_ID: NAPP 8418 2
SOURCE_IMAGE_DATE: 1995 8 5
SOURCE_DEM_DATE: 1997 4 2
AGENCY: WESTERN MAPPING CENTER (WMC)
PRODUCER: USFS
PRODUCTION_SYSTEM: DV2.6.3 10/9OV2.4 5/95
COMPRESSION: UNDEFINED
STANDARD_VERSION: 1996 12
METADATA_DATE: 1997 11 2
DATA_FILE_SIZE: 41347800
BYTE_COUNT: 5400
