FILENAME: O4811507.NWS.56487.tif
QUADRANGLE_NAME: REXFORD
QUADRANT: NW
WEST_LONGITUDE: -115 15 0.00000
EAST_LONGITUDE: -115 11 15.00000
NORTH_LATITUDE: 49 0 0.00000
SOUTH_LATITUDE: 48 56 15.00000
PRODUCTION_DATE: 1997 4 2
RASTER_ORDER: LEFT_RIGHT/TOP_BOTTOM
BAND_ORGANIZATION: SINGLE FILE
BAND_CONTENT: BLACK&WHITE
BAND_CONTENT: UNDEFINED
BAND_CONTENT: UNDEFINED
BITS_PER_PIXEL: 8
SAMPLES_AND_LINES: 5412 7664
HORIZONTAL_DATUM: NAD83
HORIZONTAL_COORDINATE_SYSTEM: UTM
COORDINATE_ZONE: 11
HORIZONTAL_UNITS: METERS
HORIZONTAL_RESOLUTION: 1.00000
SECONDARY_HORIZONTAL_DATUM: NAD27
XY_ORIGIN: 627622.00000 5429340.00000
SECONDARY_XY_ORIGIN: 627699.00000 5429127.00000
NATION: US
STATE: MT
NW_QUAD_CORNER_XY: 627996.67000 5428931.24000
NE_QUAD_CORNER_XY: 632567.77300 5429038.52600
SE_QUAD_CORNERY_XY: 632733.61400 5422091.21200
SW_QUAD_CORNER_XY: 628156.79000 5421983.89400
SECONDARY_NW_QUAD_XY: 628000.78100 5428712.27700
SECONDARY_NE_QUAD_XY: 632572.03100 5428819.56700
SECONDARY_SE_QUAD_XY: 632737.87100 5421872.25500
SECONDARY_SW_QUAD_XY: 628160.90100 5421764.93300
RMSE_XY: 1.70000
IMAGE_SOURCE: BLACK AND WHITE FILM
SOURCE_IMAGE_ID: NAPP 8420 267
SOURCE_IMAGE_DATE: 1995 8 20
SOURCE_DEM_DATE: 1997 4 2
AGENCY: WESTERN MAPPING CENTER (WMC)
PRODUCER: USFS
PRODUCTION_SYSTEM: DV2.6.3 10/9OV2.4 5/95
COMPRESSION: UNDEFINED
STANDARD_VERSION: 1996 12
METADATA_DATE: 1997 11 2
DATA_FILE_SIZE: 41482980
BYTE_COUNT: 5412
