FILENAME: O4811508.SES.56429.tif
QUADRANGLE_NAME: EUREKA NORTH
QUADRANT: SE
WEST_LONGITUDE: -115 3 45.00000
EAST_LONGITUDE: -115 0 0.00000
NORTH_LATITUDE: 48 56 15.00000
SOUTH_LATITUDE: 48 52 30.00000
PRODUCTION_DATE: 1997 3 27
RASTER_ORDER: LEFT_RIGHT/TOP_BOTTOM
BAND_ORGANIZATION: SINGLE FILE
BAND_CONTENT: BLACK&WHITE
BAND_CONTENT: UNDEFINED
BAND_CONTENT: UNDEFINED
BITS_PER_PIXEL: 8
SAMPLES_AND_LINES: 5436 7675
HORIZONTAL_DATUM: NAD83
HORIZONTAL_COORDINATE_SYSTEM: UTM
COORDINATE_ZONE: 11
HORIZONTAL_UNITS: METERS
HORIZONTAL_RESOLUTION: 1.00000
SECONDARY_HORIZONTAL_DATUM: NAD27
XY_ORIGIN: 641513.00000 5422737.00000
SECONDARY_XY_ORIGIN: 641590.00000 5422524.00000
NATION: US
STATE: MT
NW_QUAD_CORNER_XY: 641887.19600 5422317.15200
NE_QUAD_CORNER_XY: 646463.95400 5422435.77400
SE_QUAD_CORNERY_XY: 646646.78500 5415488.63100
SW_QUAD_CORNER_XY: 642064.31100 5415369.97400
SECONDARY_NW_QUAD_XY: 641891.74800 5422098.20200
SECONDARY_NE_QUAD_XY: 646468.65200 5422216.82800
SECONDARY_SE_QUAD_XY: 646651.48400 5415269.68700
SECONDARY_SW_QUAD_XY: 642068.86300 5415151.02600
RMSE_XY: 3.10000
IMAGE_SOURCE: BLACK AND WHITE FILM
SOURCE_IMAGE_ID: NAPP 8420 4
SOURCE_IMAGE_DATE: 1995 8 20
SOURCE_DEM_DATE: 1997 3 27
AGENCY: WESTERN MAPPING CENTER (WMC)
PRODUCER: USFS
PRODUCTION_SYSTEM: DV2.6.3 10/9OV2.4 5/95
COMPRESSION: UNDEFINED
STANDARD_VERSION: 1996 12
METADATA_DATE: 1997 11 2
DATA_FILE_SIZE: 41726736
BYTE_COUNT: 5436
