FILENAME: O4811508.NES.860573.tif
QUADRANGLE_NAME: EUREKA NORTH
QUADRANT: NE
WEST_LONGITUDE: -115 3 45.00000
EAST_LONGITUDE: -115 0 0.00000
NORTH_LATITUDE: 49 0 0.00000
SOUTH_LATITUDE: 48 56 15.00000
PRODUCTION_DATE: 1997 3 31
RASTER_ORDER: LEFT_RIGHT/TOP_BOTTOM
BAND_ORGANIZATION: SINGLE FILE
BAND_CONTENT: BLACK&WHITE
BAND_CONTENT: UNDEFINED
BAND_CONTENT: UNDEFINED
BITS_PER_PIXEL: 8
SAMPLES_AND_LINES: 5428 7675
HORIZONTAL_DATUM: NAD83
HORIZONTAL_COORDINATE_SYSTEM: UTM
COORDINATE_ZONE: 11
HORIZONTAL_UNITS: METERS
HORIZONTAL_RESOLUTION: 1.00000
SECONDARY_HORIZONTAL_DATUM: NAD27
XY_ORIGIN: 641336.00000 5429684.00000
SECONDARY_XY_ORIGIN: 641413.75700 5429470.67500
NATION: US
NATION: CA
STATE: MT
NW_QUAD_CORNER_XY: 641709.91000 5429264.40000
NE_QUAD_CORNER_XY: 646280.95000 5429382.98000
SE_QUAD_CORNERY_XY: 646463.95000 5422435.77000
SW_QUAD_CORNER_XY: 641887.20000 5422317.15000
SECONDARY_NW_QUAD_XY: 641714.46000 5429045.45000
SECONDARY_NE_QUAD_XY: 646285.64000 5429164.04000
SECONDARY_SE_QUAD_XY: 646468.65000 5422216.83000
SECONDARY_SW_QUAD_XY: 641891.75000 5422098.20000
RMSE_XY: 1.00000
IMAGE_SOURCE: BLACK AND WHITE FILM
SOURCE_IMAGE_ID: NAPP 8420 2
SOURCE_IMAGE_DATE: 1995 8 20
SOURCE_DEM_DATE: 1997 3 31
AGENCY: U.S. FOREST SERVICE (FS)
PRODUCER: USFS - GEOMETRONICS SERVICE CENTER
PRODUCTION_SYSTEM: DV2.6.3 10/9OV2.4 5/95
COMPRESSION: UNDEFINED
STANDARD_VERSION: 1996 12
METADATA_DATE: 1997 12 2
DATA_FILE_SIZE: 41665328
BYTE_COUNT: 5428
