FILENAME: O4811509.SWS.56743.tif
QUADRANGLE_NAME: MOUNT BALDY
QUADRANT: SW
WEST_LONGITUDE: -116 0 0.00000
EAST_LONGITUDE: -115 56 15.00000
NORTH_LATITUDE: 48 48 45.00000
SOUTH_LATITUDE: 48 45 0.00000
PRODUCTION_DATE: 1997 2 22
RASTER_ORDER: LEFT_RIGHT/TOP_BOTTOM
BAND_ORGANIZATION: SINGLE FILE
BAND_CONTENT: BLACK&WHITE
BAND_CONTENT: UNDEFINED
BAND_CONTENT: UNDEFINED
BITS_PER_PIXEL: 8
SAMPLES_AND_LINES: 5364 7620
HORIZONTAL_DATUM: NAD83
HORIZONTAL_COORDINATE_SYSTEM: UTM
COORDINATE_ZONE: 11
HORIZONTAL_UNITS: METERS
HORIZONTAL_RESOLUTION: 1.00000
SECONDARY_HORIZONTAL_DATUM: NAD27
XY_ORIGIN: 573040.00000 5407458.00000
SECONDARY_XY_ORIGIN: 573117.52400 5407245.89600
NATION: US
STATE: MT
NW_QUAD_CORNER_XY: 573416.19300 5407094.80700
NE_QUAD_CORNER_XY: 578004.63800 5407156.96400
SE_QUAD_CORNERY_XY: 578101.55800 5400209.55700
SW_QUAD_CORNER_XY: 573507.41100 5400147.38100
SECONDARY_NW_QUAD_XY: 573418.54200 5406875.82000
SECONDARY_NE_QUAD_XY: 578007.13400 5406937.98000
SECONDARY_SE_QUAD_XY: 578104.05300 5399990.57600
SECONDARY_SW_QUAD_XY: 573509.76000 5399928.39900
RMSE_XY: 2.70000
IMAGE_SOURCE: BLACK AND WHITE FILM
SOURCE_IMAGE_ID: NAPP 8419 74
SOURCE_IMAGE_DATE: 1995 8 21
SOURCE_DEM_DATE: 1997 2 22
AGENCY: WESTERN MAPPING CENTER (WMC)
PRODUCER: USFS
PRODUCTION_SYSTEM: DV2.6.3 10/9OV2.4 5/95
COMPRESSION: UNDEFINED
STANDARD_VERSION: 1996 12
METADATA_DATE: 1997 11 2
DATA_FILE_SIZE: 40879044
BYTE_COUNT: 5364
