FILENAME: O4811509.SES.56723.tif
QUADRANGLE_NAME: MOUNT BALDY
QUADRANT: SE
WEST_LONGITUDE: -115 56 15.00000
EAST_LONGITUDE: -115 52 30.00000
NORTH_LATITUDE: 48 48 45.00000
SOUTH_LATITUDE: 48 45 0.00000
PRODUCTION_DATE: 1997 2 22
RASTER_ORDER: LEFT_RIGHT/TOP_BOTTOM
BAND_ORGANIZATION: SINGLE FILE
BAND_CONTENT: BLACK&WHITE
BAND_CONTENT: UNDEFINED
BAND_CONTENT: UNDEFINED
BITS_PER_PIXEL: 8
SAMPLES_AND_LINES: 5368 7624
HORIZONTAL_DATUM: NAD83
HORIZONTAL_COORDINATE_SYSTEM: UTM
COORDINATE_ZONE: 11
HORIZONTAL_UNITS: METERS
HORIZONTAL_RESOLUTION: 1.00000
SECONDARY_HORIZONTAL_DATUM: NAD27
XY_ORIGIN: 577629.00000 5407524.00000
SECONDARY_XY_ORIGIN: 577706.51800 5407311.82100
NATION: US
STATE: MT
NW_QUAD_CORNER_XY: 578004.63800 5407156.96400
NE_QUAD_CORNER_XY: 582593.07100 5407222.89000
SE_QUAD_CORNERY_XY: 582695.69300 5400275.50100
SW_QUAD_CORNER_XY: 578101.55800 5400209.55700
SECONDARY_NW_QUAD_XY: 578007.13400 5406937.98000
SECONDARY_NE_QUAD_XY: 582595.71300 5407003.90700
SECONDARY_SE_QUAD_XY: 582698.33500 5400056.52300
SECONDARY_SW_QUAD_XY: 578104.05300 5399990.57600
RMSE_XY: 1.30000
IMAGE_SOURCE: BLACK AND WHITE FILM
SOURCE_IMAGE_ID: NAPP 8422 1
SOURCE_IMAGE_DATE: 1995 7 28
SOURCE_DEM_DATE: 1997 2 22
AGENCY: WESTERN MAPPING CENTER (WMC)
PRODUCER: USFS
PRODUCTION_SYSTEM: DV2.6.3 10/9OV2.4 5/95
COMPRESSION: UNDEFINED
STANDARD_VERSION: 1996 12
METADATA_DATE: 1997 11 2
DATA_FILE_SIZE: 40931000
BYTE_COUNT: 5368
