FILENAME: O4811510.SWS.56703.tif
QUADRANGLE_NAME: CLARK MOUNTAIN
QUADRANT: SW
WEST_LONGITUDE: -115 52 30.00000
EAST_LONGITUDE: -115 48 45.00000
NORTH_LATITUDE: 48 48 45.00000
SOUTH_LATITUDE: 48 45 0.00000
PRODUCTION_DATE: 1997 2 27
RASTER_ORDER: LEFT_RIGHT/TOP_BOTTOM
BAND_ORGANIZATION: SINGLE FILE
BAND_CONTENT: BLACK&WHITE
BAND_CONTENT: UNDEFINED
BAND_CONTENT: UNDEFINED
BITS_PER_PIXEL: 8
SAMPLES_AND_LINES: 5373 7628
HORIZONTAL_DATUM: NAD83
HORIZONTAL_COORDINATE_SYSTEM: UTM
COORDINATE_ZONE: 11
HORIZONTAL_UNITS: METERS
HORIZONTAL_RESOLUTION: 1.00000
SECONDARY_HORIZONTAL_DATUM: NAD27
XY_ORIGIN: 582217.00000 5407598.00000
SECONDARY_XY_ORIGIN: 582294.51000 5407385.74000
NATION: US
STATE: MT
NW_QUAD_CORNER_XY: 582593.14000 5407222.85000
NE_QUAD_CORNER_XY: 587181.56000 5407292.54000
SE_QUAD_CORNERY_XY: 587289.88000 5400345.17000
SW_QUAD_CORNER_XY: 582695.76000 5400275.46000
SECONDARY_NW_QUAD_XY: 582595.78000 5407003.87000
SECONDARY_NE_QUAD_XY: 587184.35000 5407073.56000
SECONDARY_SE_QUAD_XY: 587292.67000 5400126.20000
SECONDARY_SW_QUAD_XY: 582698.40000 5400056.48000
RMSE_XY: 2.70000
IMAGE_SOURCE: BLACK AND WHITE FILM
SOURCE_IMAGE_ID: NAPP 8421 183
SOURCE_IMAGE_DATE: 1995 8 21
SOURCE_IMAGE_ID: NAPP 8421 181
SOURCE_IMAGE_DATE: 1995 8 21
SOURCE_DEM_DATE: 1997 2 27
AGENCY: WESTERN MAPPING CENTER (WMC)
PRODUCER: USFS
PRODUCTION_SYSTEM: DV2.6.3 10/9OV2.4 5/95
COMPRESSION: UNDEFINED
STANDARD_VERSION: 1996 12
METADATA_DATE: 1997 11 2
DATA_FILE_SIZE: 40990617
BYTE_COUNT: 5373
