FILENAME: O4811510.SES.56681.tif
QUADRANGLE_NAME: CLARK MOUNTAIN
QUADRANT: SE
WEST_LONGITUDE: -115 48 45.00000
EAST_LONGITUDE: -115 45 0.00000
NORTH_LATITUDE: 48 48 45.00000
SOUTH_LATITUDE: 48 45 0.00000
PRODUCTION_DATE: 1997 2 27
RASTER_ORDER: LEFT_RIGHT/TOP_BOTTOM
BAND_ORGANIZATION: SINGLE FILE
BAND_CONTENT: BLACK&WHITE
BAND_CONTENT: UNDEFINED
BAND_CONTENT: UNDEFINED
BITS_PER_PIXEL: 8
SAMPLES_AND_LINES: 5381 7632
HORIZONTAL_DATUM: NAD83
HORIZONTAL_COORDINATE_SYSTEM: UTM
COORDINATE_ZONE: 11
HORIZONTAL_UNITS: METERS
HORIZONTAL_RESOLUTION: 1.00000
SECONDARY_HORIZONTAL_DATUM: NAD27
XY_ORIGIN: 586806.00000 5407671.00000
SECONDARY_XY_ORIGIN: 586883.51000 5407458.67000
NATION: US
STATE: MT
NW_QUAD_CORNER_XY: 587181.56000 5407292.54000
NE_QUAD_CORNER_XY: 591769.96000 5407366.00000
SE_QUAD_CORNERY_XY: 591883.99000 5400418.66000
SW_QUAD_CORNER_XY: 587289.88000 5400345.17000
SECONDARY_NW_QUAD_XY: 587184.35000 5407073.56000
SECONDARY_NE_QUAD_XY: 591772.90000 5407147.02000
SECONDARY_SE_QUAD_XY: 591886.93000 5400199.68000
SECONDARY_SW_QUAD_XY: 587292.67000 5400126.20000
RMSE_XY: 2.70000
IMAGE_SOURCE: BLACK AND WHITE FILM
SOURCE_IMAGE_ID: NAPP 2670 113
SOURCE_IMAGE_DATE: 1990 9 6
SOURCE_IMAGE_ID: NAPP 2670 2674
SOURCE_IMAGE_DATE: 1990 9 6
SOURCE_IMAGE_ID: NAPP 2670 56
SOURCE_IMAGE_DATE: 1990 9 6
SOURCE_DEM_DATE: 1997 2 27
AGENCY: WESTERN MAPPING CENTER (WMC)
PRODUCER: USFS
PRODUCTION_SYSTEM: DV2.6.3 10/9OV2.4 5/95
COMPRESSION: UNDEFINED
STANDARD_VERSION: 1996 12
METADATA_DATE: 1997 11 2
DATA_FILE_SIZE: 41073173
BYTE_COUNT: 5381
