FILENAME: O4811510.NWS.56704.tif
QUADRANGLE_NAME: CLARK MOUNTAIN
QUADRANT: NW
WEST_LONGITUDE: -115 52 30.00000
EAST_LONGITUDE: -115 48 45.00000
NORTH_LATITUDE: 48 52 30.00000
SOUTH_LATITUDE: 48 48 45.00000
PRODUCTION_DATE: 1997 2 27
RASTER_ORDER: LEFT_RIGHT/TOP_BOTTOM
BAND_ORGANIZATION: SINGLE FILE
BAND_CONTENT: BLACK&WHITE
BAND_CONTENT: UNDEFINED
BAND_CONTENT: UNDEFINED
BITS_PER_PIXEL: 8
SAMPLES_AND_LINES: 5368 7627
HORIZONTAL_DATUM: NAD83
HORIZONTAL_COORDINATE_SYSTEM: UTM
COORDINATE_ZONE: 11
HORIZONTAL_UNITS: METERS
HORIZONTAL_RESOLUTION: 1.00000
SECONDARY_HORIZONTAL_DATUM: NAD27
XY_ORIGIN: 582114.00000 5414541.00000
SECONDARY_XY_ORIGIN: 582191.00000 5414329.00000
NATION: US
STATE: MT
NW_QUAD_CORNER_XY: 582490.35000 5414170.35200
NE_QUAD_CORNER_XY: 587073.06100 5414240.02500
SE_QUAD_CORNERY_XY: 587181.49000 5407292.58300
SW_QUAD_CORNER_XY: 582593.07100 5407222.89000
SECONDARY_NW_QUAD_XY: 582492.99200 5413951.36500
SECONDARY_NE_QUAD_XY: 587075.85100 5414021.04100
SECONDARY_SE_QUAD_XY: 587184.28000 5407073.60300
SECONDARY_SW_QUAD_XY: 582595.71300 5407003.90700
RMSE_XY: 2.60000
IMAGE_SOURCE: BLACK AND WHITE FILM
SOURCE_IMAGE_ID: NAPP 8421 181
SOURCE_IMAGE_DATE: 1995 8 21
SOURCE_DEM_DATE: 1997 2 27
AGENCY: WESTERN MAPPING CENTER (WMC)
PRODUCER: USFS
PRODUCTION_SYSTEM: DV2.6.3 10/9OV2.4 5/95
COMPRESSION: UNDEFINED
STANDARD_VERSION: 1996 12
METADATA_DATE: 1997 11 2
DATA_FILE_SIZE: 40947104
BYTE_COUNT: 5368
