FILENAME: O4811510.NES.56682.tif
QUADRANGLE_NAME: CLARK MOUNTAIN
QUADRANT: NE
WEST_LONGITUDE: -115 48 45.00000
EAST_LONGITUDE: -115 45 0.00000
NORTH_LATITUDE: 48 52 30.00000
SOUTH_LATITUDE: 48 48 45.00000
PRODUCTION_DATE: 1997 2 27
RASTER_ORDER: LEFT_RIGHT/TOP_BOTTOM
BAND_ORGANIZATION: SINGLE FILE
BAND_CONTENT: BLACK&WHITE
BAND_CONTENT: UNDEFINED
BAND_CONTENT: UNDEFINED
BITS_PER_PIXEL: 8
SAMPLES_AND_LINES: 5372 7630
HORIZONTAL_DATUM: NAD83
HORIZONTAL_COORDINATE_SYSTEM: UTM
COORDINATE_ZONE: 11
HORIZONTAL_UNITS: METERS
HORIZONTAL_RESOLUTION: 1.00000
SECONDARY_HORIZONTAL_DATUM: NAD27
XY_ORIGIN: 586697.00000 5414614.00000
SECONDARY_XY_ORIGIN: 586774.55400 5414401.44200
NATION: US
STATE: MT
NW_QUAD_CORNER_XY: 587073.06000 5414240.02000
NE_QUAD_CORNER_XY: 591655.76000 5414313.46000
SE_QUAD_CORNERY_XY: 591769.90000 5407366.04000
SW_QUAD_CORNER_XY: 587181.49000 5407292.58000
SECONDARY_NW_QUAD_XY: 587075.85000 5414021.04000
SECONDARY_NE_QUAD_XY: 591658.70000 5414094.48000
SECONDARY_SE_QUAD_XY: 591772.83000 5407147.07000
SECONDARY_SW_QUAD_XY: 587184.28000 5407073.60000
RMSE_XY: 6.20000
IMAGE_SOURCE: BLACK AND WHITE FILM
SOURCE_IMAGE_ID: NAPP 2674 56
SOURCE_IMAGE_DATE: 1991 7 23
SOURCE_DEM_DATE: 1997 2 27
AGENCY: WESTERN MAPPING CENTER (WMC)
PRODUCER: USFS
PRODUCTION_SYSTEM: DV2.6.3 10/9OV2.4 5/95
COMPRESSION: UNDEFINED
STANDARD_VERSION: 1996 12
METADATA_DATE: 1997 11 2
DATA_FILE_SIZE: 40993732
BYTE_COUNT: 5372
