FILENAME: O4811511.SES.56635.tif
QUADRANGLE_NAME: YAAK
QUADRANT: SE
WEST_LONGITUDE: -115 41 15.00000
EAST_LONGITUDE: -115 37 30.00000
NORTH_LATITUDE: 48 48 45.00000
SOUTH_LATITUDE: 48 45 0.00000
PRODUCTION_DATE: 1997 2 28
RASTER_ORDER: LEFT_RIGHT/TOP_BOTTOM
BAND_ORGANIZATION: SINGLE FILE
BAND_CONTENT: BLACK&WHITE
BAND_CONTENT: UNDEFINED
BAND_CONTENT: UNDEFINED
BITS_PER_PIXEL: 8
SAMPLES_AND_LINES: 5389 7639
HORIZONTAL_DATUM: NAD83
HORIZONTAL_COORDINATE_SYSTEM: UTM
COORDINATE_ZONE: 11
HORIZONTAL_UNITS: METERS
HORIZONTAL_RESOLUTION: 1.00000
SECONDARY_HORIZONTAL_DATUM: NAD27
XY_ORIGIN: 595983.00000 5407829.00000
SECONDARY_XY_ORIGIN: 596060.55000 5407616.52000
NATION: US
STATE: MT
NW_QUAD_CORNER_XY: 596358.35000 5407443.23000
NE_QUAD_CORNER_XY: 600946.73000 5407524.23000
SE_QUAD_CORNERY_XY: 601072.16000 5400576.93000
SW_QUAD_CORNER_XY: 596478.08000 5400495.91000
SECONDARY_NW_QUAD_XY: 596361.44000 5407224.26000
SECONDARY_NE_QUAD_XY: 600949.96000 5407305.26000
SECONDARY_SE_QUAD_XY: 601075.39000 5400357.96000
SECONDARY_SW_QUAD_XY: 596481.17000 5400276.94000
RMSE_XY: 3.90000
IMAGE_SOURCE: BLACK AND WHITE FILM
SOURCE_IMAGE_ID: NAPP 8419 61
SOURCE_IMAGE_DATE: 1995 8 21
SOURCE_IMAGE_ID: NAPP 8419 46
SOURCE_IMAGE_DATE: 1995 8 21
SOURCE_DEM_DATE: 1997 2 28
AGENCY: WESTERN MAPPING CENTER (WMC)
PRODUCER: USFS
PRODUCTION_SYSTEM: DV2.6.1 6/95OV2.4 5/95
COMPRESSION: UNDEFINED
STANDARD_VERSION: 1996 12
METADATA_DATE: 1997 11 2
DATA_FILE_SIZE: 41171960
BYTE_COUNT: 5389
