FILENAME: O4811511.NES.56636.tif
QUADRANGLE_NAME: YAAK
QUADRANT: NE
WEST_LONGITUDE: -115 41 15.00000
EAST_LONGITUDE: -115 37 30.00000
NORTH_LATITUDE: 48 52 30.00000
SOUTH_LATITUDE: 48 48 45.00000
PRODUCTION_DATE: 1997 2 28
RASTER_ORDER: LEFT_RIGHT/TOP_BOTTOM
BAND_ORGANIZATION: SINGLE FILE
BAND_CONTENT: BLACK&WHITE
BAND_CONTENT: UNDEFINED
BAND_CONTENT: UNDEFINED
BITS_PER_PIXEL: 8
SAMPLES_AND_LINES: 5385 7639
HORIZONTAL_DATUM: NAD83
HORIZONTAL_COORDINATE_SYSTEM: UTM
COORDINATE_ZONE: 11
HORIZONTAL_UNITS: METERS
HORIZONTAL_RESOLUTION: 1.00000
SECONDARY_HORIZONTAL_DATUM: NAD27
XY_ORIGIN: 595863.00000 5414777.00000
SECONDARY_XY_ORIGIN: 595940.60000 5414564.33000
NATION: US
STATE: MT
NW_QUAD_CORNER_XY: 596238.51000 5414390.63000
NE_QUAD_CORNER_XY: 600821.18000 5414471.60000
SE_QUAD_CORNERY_XY: 600946.73000 5407524.23000
SW_QUAD_CORNER_XY: 596358.35000 5407443.23000
SECONDARY_NW_QUAD_XY: 596241.59000 5414171.65000
SECONDARY_NE_QUAD_XY: 600824.41000 5414252.63000
SECONDARY_SE_QUAD_XY: 600949.96000 5407305.26000
SECONDARY_SW_QUAD_XY: 596361.44000 5407224.26000
RMSE_XY: 3.90000
IMAGE_SOURCE: BLACK AND WHITE FILM
SOURCE_IMAGE_ID: NAPP 8419 59
SOURCE_IMAGE_DATE: 1995 8 21
SOURCE_IMAGE_ID: NAPP 8419 61
SOURCE_IMAGE_DATE: 1995 8 21
SOURCE_IMAGE_ID: NAPP 8419 48
SOURCE_IMAGE_DATE: 1995 8 21
SOURCE_DEM_DATE: 1997 2 28
AGENCY: WESTERN MAPPING CENTER (WMC)
PRODUCER: USFS
PRODUCTION_SYSTEM: DV2.6.1 6/95OV2.4 5/95
COMPRESSION: UNDEFINED
STANDARD_VERSION: 1996 12
METADATA_DATE: 1997 11 2
DATA_FILE_SIZE: 41141400
BYTE_COUNT: 5385
