FILENAME: O4811512.SES.56589.tif
QUADRANGLE_NAME: LOST HORSE MOUNTAIN
QUADRANT: SE
WEST_LONGITUDE: -115 33 45.00000
EAST_LONGITUDE: -115 30 0.00000
NORTH_LATITUDE: 48 48 45.00000
SOUTH_LATITUDE: 48 45 0.00000
PRODUCTION_DATE: 1997 3 4
RASTER_ORDER: LEFT_RIGHT/TOP_BOTTOM
BAND_ORGANIZATION: SINGLE FILE
BAND_CONTENT: BLACK&WHITE
BAND_CONTENT: UNDEFINED
BAND_CONTENT: UNDEFINED
BITS_PER_PIXEL: 8
SAMPLES_AND_LINES: 5400 7646
HORIZONTAL_DATUM: NAD83
HORIZONTAL_COORDINATE_SYSTEM: UTM
COORDINATE_ZONE: 11
HORIZONTAL_UNITS: METERS
HORIZONTAL_RESOLUTION: 1.00000
SECONDARY_HORIZONTAL_DATUM: NAD27
XY_ORIGIN: 605160.00000 5407999.00000
SECONDARY_XY_ORIGIN: 605237.67100 5407786.38300
NATION: US
STATE: MT
NW_QUAD_CORNER_XY: 605535.03000 5407609.04000
NE_QUAD_CORNER_XY: 610123.37000 5407697.57000
SE_QUAD_CORNERY_XY: 610260.21000 5400750.32000
SW_QUAD_CORNER_XY: 605666.16000 5400661.76000
SECONDARY_NW_QUAD_XY: 605538.40000 5407390.07000
SECONDARY_NE_QUAD_XY: 610126.89000 5407478.61000
SECONDARY_SE_QUAD_XY: 610263.73000 5400531.36000
SECONDARY_SW_QUAD_XY: 605669.54000 5400442.80000
RMSE_XY: 2.90000
IMAGE_SOURCE: BLACK AND WHITE FILM
SOURCE_IMAGE_ID: NAPP 8419 157
SOURCE_IMAGE_DATE: 1995 8 21
SOURCE_DEM_DATE: 1997 3 4
AGENCY: WESTERN MAPPING CENTER (WMC)
PRODUCER: USFS
PRODUCTION_SYSTEM: DV2.6.1 6/95OV2.4 5/95
COMPRESSION: UNDEFINED
STANDARD_VERSION: 1996 12
METADATA_DATE: 1997 11 2
DATA_FILE_SIZE: 41293800
BYTE_COUNT: 5400
