FILENAME: O4811512.NWS.56612.tif
QUADRANGLE_NAME: LOST HORSE MOUNTAIN
QUADRANT: NW
WEST_LONGITUDE: -115 37 30.00000
EAST_LONGITUDE: -115 33 45.00000
NORTH_LATITUDE: 48 52 30.00000
SOUTH_LATITUDE: 48 48 45.00000
PRODUCTION_DATE: 1997 3 4
RASTER_ORDER: LEFT_RIGHT/TOP_BOTTOM
BAND_ORGANIZATION: SINGLE FILE
BAND_CONTENT: BLACK&WHITE
BAND_CONTENT: UNDEFINED
BAND_CONTENT: UNDEFINED
BITS_PER_PIXEL: 8
SAMPLES_AND_LINES: 5388 7641
HORIZONTAL_DATUM: NAD83
HORIZONTAL_COORDINATE_SYSTEM: UTM
COORDINATE_ZONE: 11
HORIZONTAL_UNITS: METERS
HORIZONTAL_RESOLUTION: 1.00000
SECONDARY_HORIZONTAL_DATUM: NAD27
XY_ORIGIN: 600446.00000 5414857.00000
SECONDARY_XY_ORIGIN: 600523.64800 5414644.28100
NATION: US
STATE: MT
NW_QUAD_CORNER_XY: 600821.11000 5414471.64700
NE_QUAD_CORNER_XY: 605403.76200 5414556.38900
SE_QUAD_CORNERY_XY: 605535.02600 5407609.04000
SW_QUAD_CORNER_XY: 600946.66500 5407524.27300
SECONDARY_NW_QUAD_XY: 600824.34000 5414252.67000
SECONDARY_NE_QUAD_XY: 605407.13900 5414337.41500
SECONDARY_SE_QUAD_XY: 605538.40200 5407390.06900
SECONDARY_SW_QUAD_XY: 600949.89500 5407305.30000
RMSE_XY: 2.20000
IMAGE_SOURCE: BLACK AND WHITE FILM
SOURCE_IMAGE_ID: NAPP 8419 126
SOURCE_IMAGE_DATE: 1995 8 21
SOURCE_DEM_DATE: 1997 3 4
AGENCY: WESTERN MAPPING CENTER (WMC)
PRODUCER: USFS
PRODUCTION_SYSTEM: DV2.6.1 6/95OV2.4 5/95
COMPRESSION: UNDEFINED
STANDARD_VERSION: 1996 12
METADATA_DATE: 1997 11 2
DATA_FILE_SIZE: 41175096
BYTE_COUNT: 5388
