FILENAME: O4811513.NES.56546.tif
QUADRANGLE_NAME: BOULDER LAKES
QUADRANT: NE
WEST_LONGITUDE: -115 26 15.00000
EAST_LONGITUDE: -115 22 30.00000
NORTH_LATITUDE: 48 52 30.00000
SOUTH_LATITUDE: 48 48 45.00000
PRODUCTION_DATE: 1997 2 20
RASTER_ORDER: LEFT_RIGHT/TOP_BOTTOM
BAND_ORGANIZATION: SINGLE FILE
BAND_CONTENT: BLACK&WHITE
BAND_CONTENT: UNDEFINED
BAND_CONTENT: UNDEFINED
BITS_PER_PIXEL: 8
SAMPLES_AND_LINES: 5408 7652
HORIZONTAL_DATUM: NAD83
HORIZONTAL_COORDINATE_SYSTEM: UTM
COORDINATE_ZONE: 11
HORIZONTAL_UNITS: METERS
HORIZONTAL_RESOLUTION: 1.00000
SECONDARY_HORIZONTAL_DATUM: NAD27
XY_ORIGIN: 614194.00000 5415134.00000
SECONDARY_XY_ORIGIN: 614271.00000 5414922.00000
NATION: US
STATE: MT
NW_QUAD_CORNER_XY: 614569.01500 5414737.17600
NE_QUAD_CORNER_XY: 619151.61400 5414833.22100
SE_QUAD_CORNERY_XY: 619300.00600 5407885.95300
SW_QUAD_CORNER_XY: 614711.69700 5407789.87900
SECONDARY_NW_QUAD_XY: 614572.68600 5414518.20800
SECONDARY_NE_QUAD_XY: 619155.43200 5414614.25600
SECONDARY_SE_QUAD_XY: 619303.82300 5407666.99100
SECONDARY_SW_QUAD_XY: 614715.36700 5407570.91500
RMSE_XY: 3.20000
IMAGE_SOURCE: BLACK AND WHITE FILM
SOURCE_IMAGE_ID: NAPP 8419 144
SOURCE_IMAGE_DATE: 1995 8 21
SOURCE_DEM_DATE: 1997 2 20
AGENCY: WESTERN MAPPING CENTER (WMC)
PRODUCER: USFS
PRODUCTION_SYSTEM: DV2.6.3 10/9OV2.4 5/95
COMPRESSION: UNDEFINED
STANDARD_VERSION: 1996 12
METADATA_DATE: 1997 11 2
DATA_FILE_SIZE: 41387424
BYTE_COUNT: 5408
