FILENAME: O4811514.SES.56504.tif
QUADRANGLE_NAME: WEBB MOUNTAIN
QUADRANT: SE
WEST_LONGITUDE: -115 18 45.00000
EAST_LONGITUDE: -115 15 0.00000
NORTH_LATITUDE: 48 48 45.00000
SOUTH_LATITUDE: 48 45 0.00000
PRODUCTION_DATE: 1997 2 27
RASTER_ORDER: LEFT_RIGHT/TOP_BOTTOM
BAND_ORGANIZATION: SINGLE FILE
BAND_CONTENT: BLACK&WHITE
BAND_CONTENT: UNDEFINED
BAND_CONTENT: UNDEFINED
BITS_PER_PIXEL: 8
SAMPLES_AND_LINES: 5425 7660
HORIZONTAL_DATUM: NAD83
HORIZONTAL_COORDINATE_SYSTEM: UTM
COORDINATE_ZONE: 11
HORIZONTAL_UNITS: METERS
HORIZONTAL_RESOLUTION: 1.00000
SECONDARY_HORIZONTAL_DATUM: NAD27
XY_ORIGIN: 623513.00000 5408394.00000
SECONDARY_XY_ORIGIN: 623590.80000 5408181.06000
NATION: US
STATE: MT
NW_QUAD_CORNER_XY: 623888.36000 5407985.75000
NE_QUAD_CORNER_XY: 628476.63000 5408089.37000
SE_QUAD_CORNERY_XY: 628636.29000 5401142.23000
SW_QUAD_CORNER_XY: 624042.32000 5401038.58000
SECONDARY_NW_QUAD_XY: 623892.33000 5407766.80000
SECONDARY_NE_QUAD_XY: 628480.74000 5407870.41000
SECONDARY_SE_QUAD_XY: 628640.40000 5400923.28000
SECONDARY_SW_QUAD_XY: 624046.28000 5400819.63000
RMSE_XY: 2.40000
IMAGE_SOURCE: BLACK AND WHITE FILM
SOURCE_IMAGE_ID: NAPP 8419 169
SOURCE_IMAGE_DATE: 1995 8 21
SOURCE_IMAGE_ID: NAPP 8419 8418
SOURCE_IMAGE_DATE: 1995 8 21
SOURCE_IMAGE_ID: NAPP 8419 109
SOURCE_IMAGE_DATE: 1995 8 21
SOURCE_DEM_DATE: 1997 2 27
AGENCY: WESTERN MAPPING CENTER (WMC)
PRODUCER: USFS
PRODUCTION_SYSTEM: DV2.6.3 10/9OV2.4 5/95
COMPRESSION: UNDEFINED
STANDARD_VERSION: 1996 12
METADATA_DATE: 1997 11 2
DATA_FILE_SIZE: 41560925
BYTE_COUNT: 5425
