FILENAME: O4811514.NWS.56524.tif
QUADRANGLE_NAME: WEBB MOUNTAIN
QUADRANT: NW
WEST_LONGITUDE: -115 22 30.00000
EAST_LONGITUDE: -115 18 45.00000
NORTH_LATITUDE: 48 52 30.00000
SOUTH_LATITUDE: 48 48 45.00000
PRODUCTION_DATE: 1997 2 27
RASTER_ORDER: LEFT_RIGHT/TOP_BOTTOM
BAND_ORGANIZATION: SINGLE FILE
BAND_CONTENT: BLACK&WHITE
BAND_CONTENT: UNDEFINED
BAND_CONTENT: UNDEFINED
BITS_PER_PIXEL: 8
SAMPLES_AND_LINES: 5414 7658
HORIZONTAL_DATUM: NAD83
HORIZONTAL_COORDINATE_SYSTEM: UTM
COORDINATE_ZONE: 11
HORIZONTAL_UNITS: METERS
HORIZONTAL_RESOLUTION: 1.00000
SECONDARY_HORIZONTAL_DATUM: NAD27
XY_ORIGIN: 618777.00000 5415242.00000
SECONDARY_XY_ORIGIN: 618854.78000 5415029.05000
NATION: US
STATE: MT
NW_QUAD_CORNER_XY: 619151.68000 5414833.18000
NE_QUAD_CORNER_XY: 623734.26000 5414932.99000
SE_QUAD_CORNERY_XY: 623888.36000 5407985.75000
SW_QUAD_CORNER_XY: 619300.07000 5407885.91000
SECONDARY_NW_QUAD_XY: 619155.50000 5414614.22000
SECONDARY_NE_QUAD_XY: 623738.23000 5414714.03000
SECONDARY_SE_QUAD_XY: 623892.33000 5407766.80000
SECONDARY_SW_QUAD_XY: 619303.89000 5407666.95000
RMSE_XY: 2.40000
IMAGE_SOURCE: BLACK AND WHITE FILM
SOURCE_IMAGE_ID: NAPP 8418 6
SOURCE_IMAGE_DATE: 1995 8 5
SOURCE_IMAGE_ID: NAPP 8418 4
SOURCE_IMAGE_DATE: 1995 8 5
SOURCE_IMAGE_ID: NAPP 8418 8
SOURCE_IMAGE_DATE: 1995 8 5
SOURCE_DEM_DATE: 1997 2 27
AGENCY: WESTERN MAPPING CENTER (WMC)
PRODUCER: USFS
PRODUCTION_SYSTEM: DV2.6.3 10/9OV2.4 5/95
COMPRESSION: UNDEFINED
STANDARD_VERSION: 1996 12
METADATA_DATE: 1997 11 2
DATA_FILE_SIZE: 41465826
BYTE_COUNT: 5414
