FILENAME: O4811515.SWS.56484.tif
QUADRANGLE_NAME: BEARTRAP MOUNTAIN
QUADRANT: SW
WEST_LONGITUDE: -115 15 0.00000
EAST_LONGITUDE: -115 11 15.00000
NORTH_LATITUDE: 48 48 45.00000
SOUTH_LATITUDE: 48 45 0.00000
PRODUCTION_DATE: 1997 3 4
RASTER_ORDER: LEFT_RIGHT/TOP_BOTTOM
BAND_ORGANIZATION: SINGLE FILE
BAND_CONTENT: BLACK&WHITE
BAND_CONTENT: UNDEFINED
BAND_CONTENT: UNDEFINED
BITS_PER_PIXEL: 8
SAMPLES_AND_LINES: 5428 7664
HORIZONTAL_DATUM: NAD83
HORIZONTAL_COORDINATE_SYSTEM: UTM
COORDINATE_ZONE: 11
HORIZONTAL_UNITS: METERS
HORIZONTAL_RESOLUTION: 1.00000
SECONDARY_HORIZONTAL_DATUM: NAD27
XY_ORIGIN: 628102.00000 5408498.00000
SECONDARY_XY_ORIGIN: 628179.00000 5408285.00000
NATION: US
STATE: MT
NW_QUAD_CORNER_XY: 628476.56700 5408089.40700
NE_QUAD_CORNER_XY: 633064.81800 5408196.78900
SE_QUAD_CORNERY_XY: 633230.18100 5401249.68000
SW_QUAD_CORNER_XY: 628636.22500 5401142.26700
SECONDARY_NW_QUAD_XY: 628480.67800 5407870.45200
SECONDARY_NE_QUAD_XY: 633069.07500 5407977.83700
SECONDARY_SE_QUAD_XY: 633234.43800 5401030.73200
SECONDARY_SW_QUAD_XY: 628640.33600 5400923.31600
RMSE_XY: 3.20000
IMAGE_SOURCE: BLACK AND WHITE FILM
SOURCE_IMAGE_ID: NAPP 8420 261
SOURCE_IMAGE_DATE: 1995 8 20
SOURCE_DEM_DATE: 1997 3 4
AGENCY: WESTERN MAPPING CENTER (WMC)
PRODUCER: USFS
PRODUCTION_SYSTEM: DV2.6.3 10/9OV2.4 5/95
COMPRESSION: UNDEFINED
STANDARD_VERSION: 1996 12
METADATA_DATE: 1997 11 4
DATA_FILE_SIZE: 41605620
BYTE_COUNT: 5428
