FILENAME: O4811515.NES.56465.tif
QUADRANGLE_NAME: BEARTRAP MOUNTAIN
QUADRANT: NE
WEST_LONGITUDE: -115 11 15.00000
EAST_LONGITUDE: -115 7 30.00000
NORTH_LATITUDE: 48 52 30.00000
SOUTH_LATITUDE: 48 48 45.00000
PRODUCTION_DATE: 1997 3 4
RASTER_ORDER: LEFT_RIGHT/TOP_BOTTOM
BAND_ORGANIZATION: SINGLE FILE
BAND_CONTENT: BLACK&WHITE
BAND_CONTENT: UNDEFINED
BAND_CONTENT: UNDEFINED
BITS_PER_PIXEL: 8
SAMPLES_AND_LINES: 5428 7667
HORIZONTAL_DATUM: NAD83
HORIZONTAL_COORDINATE_SYSTEM: UTM
COORDINATE_ZONE: 11
HORIZONTAL_UNITS: METERS
HORIZONTAL_RESOLUTION: 1.00000
SECONDARY_HORIZONTAL_DATUM: NAD27
XY_ORIGIN: 632525.00000 5415556.00000
SECONDARY_XY_ORIGIN: 632602.80800 5415342.89600
NATION: US
STATE: MT
NW_QUAD_CORNER_XY: 632899.29500 5415143.96700
NE_QUAD_CORNER_XY: 637481.81400 5415255.08600
SE_QUAD_CORNERY_XY: 637653.04700 5408307.94100
SW_QUAD_CORNER_XY: 633064.81800 5408196.78900
SECONDARY_NW_QUAD_XY: 632903.55300 5414925.01200
SECONDARY_NE_QUAD_XY: 637486.21900 5415036.13400
SECONDARY_SE_QUAD_XY: 637657.45200 5408088.99200
SECONDARY_SW_QUAD_XY: 633069.07500 5407977.83700
RMSE_XY: 2.30000
IMAGE_SOURCE: BLACK AND WHITE FILM
SOURCE_IMAGE_ID: NAPP 8420 144
SOURCE_IMAGE_DATE: 1995 8 20
SOURCE_DEM_DATE: 1997 3 4
AGENCY: WESTERN MAPPING CENTER (WMC)
PRODUCER: USFS
PRODUCTION_SYSTEM: DV2.6.3 10/9OV2.4 5/95
COMPRESSION: UNDEFINED
STANDARD_VERSION: 1996 12
METADATA_DATE: 1997 11 4
DATA_FILE_SIZE: 41621904
BYTE_COUNT: 5428
