FILENAME: O4811516.SES.56427.tif
QUADRANGLE_NAME: EUREKA SOUTH
QUADRANT: SE
WEST_LONGITUDE: -115 3 45.00000
EAST_LONGITUDE: -115 0 0.00000
NORTH_LATITUDE: 48 48 45.00000
SOUTH_LATITUDE: 48 45 0.00000
PRODUCTION_DATE: 1997 3 7
RASTER_ORDER: LEFT_RIGHT/TOP_BOTTOM
BAND_ORGANIZATION: SINGLE FILE
BAND_CONTENT: BLACK&WHITE
BAND_CONTENT: UNDEFINED
BAND_CONTENT: UNDEFINED
BITS_PER_PIXEL: 8
SAMPLES_AND_LINES: 5444 7675
HORIZONTAL_DATUM: NAD83
HORIZONTAL_COORDINATE_SYSTEM: UTM
COORDINATE_ZONE: 11
HORIZONTAL_UNITS: METERS
HORIZONTAL_RESOLUTION: 1.00000
SECONDARY_HORIZONTAL_DATUM: NAD27
XY_ORIGIN: 641867.00000 5408843.00000
SECONDARY_XY_ORIGIN: 641944.81400 5408629.95600
NATION: US
STATE: MT
NW_QUAD_CORNER_XY: 642241.25600 5408422.86200
NE_QUAD_CORNER_XY: 646829.44100 5408541.55400
SE_QUAD_CORNERY_XY: 647011.92100 5401594.54400
SW_QUAD_CORNER_XY: 642418.03000 5401475.81800
SECONDARY_NW_QUAD_XY: 642245.80700 5408203.91800
SECONDARY_NE_QUAD_XY: 646834.14000 5408322.61300
SECONDARY_SE_QUAD_XY: 647016.62000 5401375.60700
SECONDARY_SW_QUAD_XY: 642422.58100 5401256.87700
RMSE_XY: 2.20000
IMAGE_SOURCE: BLACK AND WHITE FILM
SOURCE_IMAGE_ID: NAPP 8420 8
SOURCE_IMAGE_DATE: 1995 8 20
SOURCE_DEM_DATE: 1997 3 7
AGENCY: WESTERN MAPPING CENTER (WMC)
PRODUCER: USFS
PRODUCTION_SYSTEM: DV2.6.3 10/9OV2.4 5/95
COMPRESSION: UNDEFINED
STANDARD_VERSION: 1996 12
METADATA_DATE: 1997 11 2
DATA_FILE_SIZE: 41788144
BYTE_COUNT: 5444
