FILENAME: O4811517.SWS.56741.tif
QUADRANGLE_NAME: NEWTON MOUNTAIN
QUADRANT: SW
WEST_LONGITUDE: -116 0 0.00000
EAST_LONGITUDE: -115 56 15.00000
NORTH_LATITUDE: 48 41 15.00000
SOUTH_LATITUDE: 48 37 30.00000
PRODUCTION_DATE: 1997 2 22
RASTER_ORDER: LEFT_RIGHT/TOP_BOTTOM
BAND_ORGANIZATION: SINGLE FILE
BAND_CONTENT: BLACK&WHITE
BAND_CONTENT: UNDEFINED
BAND_CONTENT: UNDEFINED
BITS_PER_PIXEL: 8
SAMPLES_AND_LINES: 5372 7620
HORIZONTAL_DATUM: NAD83
HORIZONTAL_COORDINATE_SYSTEM: UTM
COORDINATE_ZONE: 11
HORIZONTAL_UNITS: METERS
HORIZONTAL_RESOLUTION: 1.00000
SECONDARY_HORIZONTAL_DATUM: NAD27
XY_ORIGIN: 573223.00000 5393563.00000
SECONDARY_XY_ORIGIN: 573300.36800 5393351.30300
NATION: US
STATE: MT
NW_QUAD_CORNER_XY: 573598.54000 5393200.02900
NE_QUAD_CORNER_XY: 578198.38400 5393262.22200
SE_QUAD_CORNERY_XY: 578295.11600 5386314.96100
SW_QUAD_CORNER_XY: 573689.58100 5386252.75100
SECONDARY_NW_QUAD_XY: 573600.88900 5392981.05200
SECONDARY_NE_QUAD_XY: 578200.87900 5393043.24700
SECONDARY_SE_QUAD_XY: 578297.61100 5386095.99100
SECONDARY_SW_QUAD_XY: 573691.93000 5386033.77900
RMSE_XY: 2.10000
IMAGE_SOURCE: BLACK AND WHITE FILM
SOURCE_IMAGE_ID: NAPP 8419 78
SOURCE_IMAGE_DATE: 1995 8 21
SOURCE_DEM_DATE: 1997 2 22
AGENCY: WESTERN MAPPING CENTER (WMC)
PRODUCER: USFS
PRODUCTION_SYSTEM: DV2.6.3 10/9OV2.4 5/95
COMPRESSION: UNDEFINED
STANDARD_VERSION: 1996 12
METADATA_DATE: 1997 11 2
DATA_FILE_SIZE: 40940012
BYTE_COUNT: 5372
