FILENAME: O4811517.NWS.56742.tif
QUADRANGLE_NAME: NEWTON MOUNTAIN
QUADRANT: NW
WEST_LONGITUDE: -116 0 0.00000
EAST_LONGITUDE: -115 56 15.00000
NORTH_LATITUDE: 48 45 0.00000
SOUTH_LATITUDE: 48 41 15.00000
PRODUCTION_DATE: 1997 2 22
RASTER_ORDER: LEFT_RIGHT/TOP_BOTTOM
BAND_ORGANIZATION: SINGLE FILE
BAND_CONTENT: BLACK&WHITE
BAND_CONTENT: UNDEFINED
BAND_CONTENT: UNDEFINED
BITS_PER_PIXEL: 8
SAMPLES_AND_LINES: 5368 7620
HORIZONTAL_DATUM: NAD83
HORIZONTAL_COORDINATE_SYSTEM: UTM
COORDINATE_ZONE: 11
HORIZONTAL_UNITS: METERS
HORIZONTAL_RESOLUTION: 1.00000
SECONDARY_HORIZONTAL_DATUM: NAD27
XY_ORIGIN: 573131.00000 5400511.00000
SECONDARY_XY_ORIGIN: 573208.00000 5400299.00000
NATION: US
STATE: MT
NW_QUAD_CORNER_XY: 573507.41100 5400147.38100
NE_QUAD_CORNER_XY: 578101.55800 5400209.55700
SE_QUAD_CORNERY_XY: 578198.38400 5393262.22200
SW_QUAD_CORNER_XY: 573598.54000 5393200.02900
SECONDARY_NW_QUAD_XY: 573509.76000 5399928.39900
SECONDARY_NE_QUAD_XY: 578104.05300 5399990.57600
SECONDARY_SE_QUAD_XY: 578200.87900 5393043.24700
SECONDARY_SW_QUAD_XY: 573600.88900 5392981.05200
RMSE_XY: 2.50000
IMAGE_SOURCE: BLACK AND WHITE FILM
SOURCE_IMAGE_ID: NAPP 8419 76
SOURCE_IMAGE_DATE: 1995 8 21
SOURCE_DEM_DATE: 1997 2 22
AGENCY: WESTERN MAPPING CENTER (WMC)
PRODUCER: USFS
PRODUCTION_SYSTEM: DV2.6.3 10/9OV2.4 5/95
COMPRESSION: UNDEFINED
STANDARD_VERSION: 1996 12
METADATA_DATE: 1997 11 2
DATA_FILE_SIZE: 40909528
BYTE_COUNT: 5368
