FILENAME: O4811517.NES.56722.tif
QUADRANGLE_NAME: NEWTON MOUNTAIN
QUADRANT: NE
WEST_LONGITUDE: -115 56 15.00000
EAST_LONGITUDE: -115 52 30.00000
NORTH_LATITUDE: 48 45 0.00000
SOUTH_LATITUDE: 48 41 15.00000
PRODUCTION_DATE: 1997 2 22
RASTER_ORDER: LEFT_RIGHT/TOP_BOTTOM
BAND_ORGANIZATION: SINGLE FILE
BAND_CONTENT: BLACK&WHITE
BAND_CONTENT: UNDEFINED
BAND_CONTENT: UNDEFINED
BITS_PER_PIXEL: 8
SAMPLES_AND_LINES: 5373 7625
HORIZONTAL_DATUM: NAD83
HORIZONTAL_COORDINATE_SYSTEM: UTM
COORDINATE_ZONE: 11
HORIZONTAL_UNITS: METERS
HORIZONTAL_RESOLUTION: 1.00000
SECONDARY_HORIZONTAL_DATUM: NAD27
XY_ORIGIN: 577726.00000 5400581.00000
SECONDARY_XY_ORIGIN: 577803.48000 5400369.09000
NATION: US
STATE: MT
NW_QUAD_CORNER_XY: 578101.62000 5400209.52000
NE_QUAD_CORNER_XY: 582695.76000 5400275.46000
SE_QUAD_CORNERY_XY: 582798.28000 5393328.14000
SW_QUAD_CORNER_XY: 578198.45000 5393262.18000
SECONDARY_NW_QUAD_XY: 578104.12000 5399990.54000
SECONDARY_NE_QUAD_XY: 582698.40000 5400056.48000
SECONDARY_SE_QUAD_XY: 582800.92000 5393109.17000
SECONDARY_SW_QUAD_XY: 578200.95000 5393043.20000
RMSE_XY: 2.10000
IMAGE_SOURCE: BLACK AND WHITE FILM
SOURCE_IMAGE_ID: NAPP 8422 3
SOURCE_IMAGE_DATE: 1995 7 28
SOURCE_IMAGE_ID: NAPP 8422 5
SOURCE_IMAGE_DATE: 1995 7 28
SOURCE_DEM_DATE: 1997 2 22
AGENCY: WESTERN MAPPING CENTER (WMC)
PRODUCER: USFS
PRODUCTION_SYSTEM: DV2.6.3 10/9OV2.4 5/95
COMPRESSION: UNDEFINED
STANDARD_VERSION: 1996 12
METADATA_DATE: 1997 11 2
DATA_FILE_SIZE: 40974498
BYTE_COUNT: 5373
