FILENAME: O4811518.SWS.56701.tif
QUADRANGLE_NAME: SYLVANITE
QUADRANT: SW
WEST_LONGITUDE: -115 52 30.00000
EAST_LONGITUDE: -115 48 45.00000
NORTH_LATITUDE: 48 41 15.00000
SOUTH_LATITUDE: 48 37 30.00000
PRODUCTION_DATE: 1997 2 27
RASTER_ORDER: LEFT_RIGHT/TOP_BOTTOM
BAND_ORGANIZATION: SINGLE FILE
BAND_CONTENT: BLACK&WHITE
BAND_CONTENT: UNDEFINED
BAND_CONTENT: UNDEFINED
BITS_PER_PIXEL: 8
SAMPLES_AND_LINES: 5384 7627
HORIZONTAL_DATUM: NAD83
HORIZONTAL_COORDINATE_SYSTEM: UTM
COORDINATE_ZONE: 11
HORIZONTAL_UNITS: METERS
HORIZONTAL_RESOLUTION: 1.00000
SECONDARY_HORIZONTAL_DATUM: NAD27
XY_ORIGIN: 582423.00000 5393699.00000
SECONDARY_XY_ORIGIN: 582500.34200 5393487.10200
NATION: US
STATE: MT
NW_QUAD_CORNER_XY: 582798.21500 5393328.18500
NE_QUAD_CORNER_XY: 587398.03500 5393397.91800
SE_QUAD_CORNERY_XY: 587506.15000 5386450.69400
SW_QUAD_CORNER_XY: 582900.63900 5386380.94200
SECONDARY_NW_QUAD_XY: 582800.85800 5393109.21200
SECONDARY_NE_QUAD_XY: 587400.82400 5393178.94700
SECONDARY_SE_QUAD_XY: 587508.93900 5386231.72900
SECONDARY_SW_QUAD_XY: 582903.28100 5386161.97500
RMSE_XY: 1.80000
IMAGE_SOURCE: BLACK AND WHITE FILM
SOURCE_IMAGE_ID: NAPP 8421 187
SOURCE_IMAGE_DATE: 1995 8 21
SOURCE_DEM_DATE: 1997 2 27
AGENCY: WESTERN MAPPING CENTER (WMC)
PRODUCER: USFS
PRODUCTION_SYSTEM: DV2.6.3 10/9OV2.4 5/95
COMPRESSION: UNDEFINED
STANDARD_VERSION: 1996 12
METADATA_DATE: 1997 11 2
DATA_FILE_SIZE: 41069152
BYTE_COUNT: 5384
