FILENAME: O4811518.SES.56679.tif
QUADRANGLE_NAME: SYLVANITE
QUADRANT: SE
WEST_LONGITUDE: -115 48 45.00000
EAST_LONGITUDE: -115 45 0.00000
NORTH_LATITUDE: 48 41 15.00000
SOUTH_LATITUDE: 48 37 30.00000
PRODUCTION_DATE: 1997 2 27
RASTER_ORDER: LEFT_RIGHT/TOP_BOTTOM
BAND_ORGANIZATION: SINGLE FILE
BAND_CONTENT: BLACK&WHITE
BAND_CONTENT: UNDEFINED
BAND_CONTENT: UNDEFINED
BITS_PER_PIXEL: 8
SAMPLES_AND_LINES: 5388 7630
HORIZONTAL_DATUM: NAD83
HORIZONTAL_COORDINATE_SYSTEM: UTM
COORDINATE_ZONE: 11
HORIZONTAL_UNITS: METERS
HORIZONTAL_RESOLUTION: 1.00000
SECONDARY_HORIZONTAL_DATUM: NAD27
XY_ORIGIN: 587023.00000 5393772.00000
SECONDARY_XY_ORIGIN: 587100.32900 5393560.00100
NATION: US
STATE: MT
NW_QUAD_CORNER_XY: 587398.03000 5393397.92000
NE_QUAD_CORNER_XY: 591997.84000 5393471.42000
SE_QUAD_CORNERY_XY: 592111.65000 5386524.22000
SW_QUAD_CORNER_XY: 587506.15000 5386450.69000
SECONDARY_NW_QUAD_XY: 587400.82000 5393178.95000
SECONDARY_NE_QUAD_XY: 592000.78000 5393252.45000
SECONDARY_SE_QUAD_XY: 592114.58000 5386305.26000
SECONDARY_SW_QUAD_XY: 587508.94000 5386231.73000
RMSE_XY: 4.10000
IMAGE_SOURCE: BLACK AND WHITE FILM
SOURCE_IMAGE_ID: NAPP 2670 117
SOURCE_IMAGE_DATE: 1990 9 6
SOURCE_DEM_DATE: 1997 2 27
AGENCY: WESTERN MAPPING CENTER (WMC)
PRODUCER: USFS
PRODUCTION_SYSTEM: DV2.6.3 10/9OV2.4 5/95
COMPRESSION: UNDEFINED
STANDARD_VERSION: 1996 12
METADATA_DATE: 1997 11 2
DATA_FILE_SIZE: 41115828
BYTE_COUNT: 5388
