FILENAME: O4811518.NWS.56702.tif
QUADRANGLE_NAME: SYLVANITE
QUADRANT: NW
WEST_LONGITUDE: -115 52 30.00000
EAST_LONGITUDE: -115 48 45.00000
NORTH_LATITUDE: 48 45 0.00000
SOUTH_LATITUDE: 48 41 15.00000
PRODUCTION_DATE: 1997 2 27
RASTER_ORDER: LEFT_RIGHT/TOP_BOTTOM
BAND_ORGANIZATION: SINGLE FILE
BAND_CONTENT: BLACK&WHITE
BAND_CONTENT: UNDEFINED
BAND_CONTENT: UNDEFINED
BITS_PER_PIXEL: 8
SAMPLES_AND_LINES: 5380 7627
HORIZONTAL_DATUM: NAD83
HORIZONTAL_COORDINATE_SYSTEM: UTM
COORDINATE_ZONE: 11
HORIZONTAL_UNITS: METERS
HORIZONTAL_RESOLUTION: 1.00000
SECONDARY_HORIZONTAL_DATUM: NAD27
XY_ORIGIN: 582320.00000 5400646.00000
SECONDARY_XY_ORIGIN: 582397.46900 5400433.99400
NATION: US
STATE: MT
NW_QUAD_CORNER_XY: 582695.69300 5400275.50100
NE_QUAD_CORNER_XY: 587289.81500 5400345.21500
SE_QUAD_CORNERY_XY: 587398.03500 5393397.91800
SW_QUAD_CORNER_XY: 582798.21500 5393328.18500
SECONDARY_NW_QUAD_XY: 582698.33500 5400056.52300
SECONDARY_NE_QUAD_XY: 587292.60400 5400126.23800
SECONDARY_SE_QUAD_XY: 587400.82400 5393178.94700
SECONDARY_SW_QUAD_XY: 582800.85800 5393109.21200
RMSE_XY: 2.30000
IMAGE_SOURCE: BLACK AND WHITE FILM
SOURCE_IMAGE_ID: NAPP 8421 185
SOURCE_IMAGE_DATE: 1995 8 21
SOURCE_DEM_DATE: 1997 2 27
AGENCY: WESTERN MAPPING CENTER (WMC)
PRODUCER: USFS
PRODUCTION_SYSTEM: DV2.6.3 10/9OV2.4 5/95
COMPRESSION: UNDEFINED
STANDARD_VERSION: 1996 12
METADATA_DATE: 1997 11 2
DATA_FILE_SIZE: 41038640
BYTE_COUNT: 5380
