FILENAME: O4811519.SWS.56657.tif
QUADRANGLE_NAME: FLATIRON MOUNTAIN
QUADRANT: SW
WEST_LONGITUDE: -115 45 0.00000
EAST_LONGITUDE: -115 41 15.00000
NORTH_LATITUDE: 48 41 15.00000
SOUTH_LATITUDE: 48 37 30.00000
PRODUCTION_DATE: 1997 3 1
RASTER_ORDER: LEFT_RIGHT/TOP_BOTTOM
BAND_ORGANIZATION: SINGLE FILE
BAND_CONTENT: BLACK&WHITE
BAND_CONTENT: UNDEFINED
BAND_CONTENT: UNDEFINED
BITS_PER_PIXEL: 8
SAMPLES_AND_LINES: 5396 7635
HORIZONTAL_DATUM: NAD83
HORIZONTAL_COORDINATE_SYSTEM: UTM
COORDINATE_ZONE: 11
HORIZONTAL_UNITS: METERS
HORIZONTAL_RESOLUTION: 1.00000
SECONDARY_HORIZONTAL_DATUM: NAD27
XY_ORIGIN: 591622.00000 5393850.00000
SECONDARY_XY_ORIGIN: 591699.00000 5393638.00000
NATION: US
STATE: MT
NW_QUAD_CORNER_XY: 591997.84100 5393471.42200
NE_QUAD_CORNER_XY: 596597.63300 5393548.69500
SE_QUAD_CORNERY_XY: 596717.13100 5386601.51300
SW_QUAD_CORNER_XY: 592111.64700 5386524.21800
SECONDARY_NW_QUAD_XY: 592000.77700 5393252.45300
SECONDARY_NE_QUAD_XY: 596600.71600 5393329.72900
SECONDARY_SE_QUAD_XY: 596720.21400 5386382.55300
SECONDARY_SW_QUAD_XY: 592114.58300 5386305.25500
RMSE_XY: 0.90000
IMAGE_SOURCE: BLACK AND WHITE FILM
SOURCE_IMAGE_ID: NAPP 8419 42
SOURCE_IMAGE_DATE: 1995 8 21
SOURCE_DEM_DATE: 1997 3 1
AGENCY: WESTERN MAPPING CENTER (WMC)
PRODUCER: USFS
PRODUCTION_SYSTEM: DV2.6.1 6/95OV2.4 5/95
COMPRESSION: UNDEFINED
STANDARD_VERSION: 1996 12
METADATA_DATE: 1997 11 2
DATA_FILE_SIZE: 41203856
BYTE_COUNT: 5396
