FILENAME: O4811519.SES.56633.tif
QUADRANGLE_NAME: FLATIRON MOUNTAIN
QUADRANT: SE
WEST_LONGITUDE: -115 41 15.00000
EAST_LONGITUDE: -115 37 30.00000
NORTH_LATITUDE: 48 41 15.00000
SOUTH_LATITUDE: 48 37 30.00000
PRODUCTION_DATE: 1997 3 1
RASTER_ORDER: LEFT_RIGHT/TOP_BOTTOM
BAND_ORGANIZATION: SINGLE FILE
BAND_CONTENT: BLACK&WHITE
BAND_CONTENT: UNDEFINED
BAND_CONTENT: UNDEFINED
BITS_PER_PIXEL: 8
SAMPLES_AND_LINES: 5400 7638
HORIZONTAL_DATUM: NAD83
HORIZONTAL_COORDINATE_SYSTEM: UTM
COORDINATE_ZONE: 11
HORIZONTAL_UNITS: METERS
HORIZONTAL_RESOLUTION: 1.00000
SECONDARY_HORIZONTAL_DATUM: NAD27
XY_ORIGIN: 596222.00000 5393931.00000
SECONDARY_XY_ORIGIN: 596299.39400 5393718.80900
NATION: US
STATE: MT
NW_QUAD_CORNER_XY: 596597.63300 5393548.69500
NE_QUAD_CORNER_XY: 601197.41000 5393629.73900
SE_QUAD_CORNERY_XY: 601322.60100 5386682.58000
SW_QUAD_CORNER_XY: 596717.13100 5386601.51300
SECONDARY_NW_QUAD_XY: 596600.71600 5393329.72900
SECONDARY_NE_QUAD_XY: 601200.64000 5393410.77600
SECONDARY_SE_QUAD_XY: 601325.83100 5386463.62200
SECONDARY_SW_QUAD_XY: 596720.21400 5386382.55300
RMSE_XY: 1.50000
IMAGE_SOURCE: BLACK AND WHITE FILM
SOURCE_IMAGE_ID: NAPP 8419 65
SOURCE_IMAGE_DATE: 1995 8 21
SOURCE_DEM_DATE: 1997 3 1
AGENCY: WESTERN MAPPING CENTER (WMC)
PRODUCER: USFS
PRODUCTION_SYSTEM: DV2.6.1 6/95OV2.4 5/95
COMPRESSION: UNDEFINED
STANDARD_VERSION: 1996 12
METADATA_DATE: 1997 11 2
DATA_FILE_SIZE: 41250600
BYTE_COUNT: 5400
