FILENAME: O4811520.SWS.56609.tif
QUADRANGLE_NAME: PINK MOUNTAIN
QUADRANT: SW
WEST_LONGITUDE: -115 37 30.00000
EAST_LONGITUDE: -115 33 45.00000
NORTH_LATITUDE: 48 41 15.00000
SOUTH_LATITUDE: 48 37 30.00000
PRODUCTION_DATE: 1997 3 5
RASTER_ORDER: LEFT_RIGHT/TOP_BOTTOM
BAND_ORGANIZATION: SINGLE FILE
BAND_CONTENT: BLACK&WHITE
BAND_CONTENT: UNDEFINED
BAND_CONTENT: UNDEFINED
BITS_PER_PIXEL: 8
SAMPLES_AND_LINES: 5408 7642
HORIZONTAL_DATUM: NAD83
HORIZONTAL_COORDINATE_SYSTEM: UTM
COORDINATE_ZONE: 11
HORIZONTAL_UNITS: METERS
HORIZONTAL_RESOLUTION: 1.00000
SECONDARY_HORIZONTAL_DATUM: NAD27
XY_ORIGIN: 600822.00000 5394016.00000
SECONDARY_XY_ORIGIN: 600899.00000 5393804.00000
NATION: US
STATE: MT
NW_QUAD_CORNER_XY: 601197.41000 5393629.73900
NE_QUAD_CORNER_XY: 605797.17200 5393714.55400
SE_QUAD_CORNERY_XY: 605928.05500 5386767.41800
SW_QUAD_CORNER_XY: 601322.60100 5386682.58000
SECONDARY_NW_QUAD_XY: 601200.64000 5393410.77600
SECONDARY_NE_QUAD_XY: 605800.54900 5393495.59300
SECONDARY_SE_QUAD_XY: 605931.43200 5386548.46300
SECONDARY_SW_QUAD_XY: 601325.83100 5386463.62200
RMSE_XY: 2.50000
IMAGE_SOURCE: BLACK AND WHITE FILM
SOURCE_IMAGE_ID: NAPP 8419 132
SOURCE_IMAGE_DATE: 1995 8 21
SOURCE_DEM_DATE: 1997 3 5
AGENCY: WESTERN MAPPING CENTER (WMC)
PRODUCER: USFS
PRODUCTION_SYSTEM: DV2.6.1 6/95OV2.4 5/95
COMPRESSION: UNDEFINED
STANDARD_VERSION: 1996 12
METADATA_DATE: 1997 11 2
DATA_FILE_SIZE: 41333344
BYTE_COUNT: 5408
