FILENAME: O4811522.SES.56502.tif
QUADRANGLE_NAME: INCH MOUNTAIN
QUADRANT: SE
WEST_LONGITUDE: -115 18 45.00000
EAST_LONGITUDE: -115 15 0.00000
NORTH_LATITUDE: 48 41 15.00000
SOUTH_LATITUDE: 48 37 30.00000
PRODUCTION_DATE: 1997 2 26
RASTER_ORDER: LEFT_RIGHT/TOP_BOTTOM
BAND_ORGANIZATION: SINGLE FILE
BAND_CONTENT: BLACK&WHITE
BAND_CONTENT: UNDEFINED
BAND_CONTENT: UNDEFINED
BITS_PER_PIXEL: 8
SAMPLES_AND_LINES: 5436 7660
HORIZONTAL_DATUM: NAD83
HORIZONTAL_COORDINATE_SYSTEM: UTM
COORDINATE_ZONE: 11
HORIZONTAL_UNITS: METERS
HORIZONTAL_RESOLUTION: 1.00000
SECONDARY_HORIZONTAL_DATUM: NAD27
XY_ORIGIN: 623821.00000 5394496.00000
SECONDARY_XY_ORIGIN: 623898.76300 5394283.24100
NATION: US
STATE: MT
NW_QUAD_CORNER_XY: 624196.05300 5394091.52400
NE_QUAD_CORNER_XY: 628795.72800 5394195.19500
SE_QUAD_CORNERY_XY: 628955.07700 5387248.19300
SW_QUAD_CORNER_XY: 624349.70900 5387144.49300
SECONDARY_NW_QUAD_XY: 624200.01700 5393872.57500
SECONDARY_NE_QUAD_XY: 628799.83900 5393976.25000
SECONDARY_SE_QUAD_XY: 628959.18800 5387029.25300
SECONDARY_SW_QUAD_XY: 624353.67200 5386925.55000
RMSE_XY: 2.40000
IMAGE_SOURCE: BLACK AND WHITE FILM
SOURCE_IMAGE_ID: NAPP 8418 107
SOURCE_IMAGE_DATE: 1995 8 5
SOURCE_DEM_DATE: 1997 2 26
AGENCY: WESTERN MAPPING CENTER (WMC)
PRODUCER: USFS
PRODUCTION_SYSTEM: DV2.6.3 10/9OV2.4 5/95
COMPRESSION: UNDEFINED
STANDARD_VERSION: 1996 12
METADATA_DATE: 1997 11 2
DATA_FILE_SIZE: 41645196
BYTE_COUNT: 5436
