FILENAME: O4811522.NES.56503.tif
QUADRANGLE_NAME: INCH MOUNTAIN
QUADRANT: NE
WEST_LONGITUDE: -115 18 45.00000
EAST_LONGITUDE: -115 15 0.00000
NORTH_LATITUDE: 48 45 0.00000
SOUTH_LATITUDE: 48 41 15.00000
PRODUCTION_DATE: 1997 2 26
RASTER_ORDER: LEFT_RIGHT/TOP_BOTTOM
BAND_ORGANIZATION: SINGLE FILE
BAND_CONTENT: BLACK&WHITE
BAND_CONTENT: UNDEFINED
BAND_CONTENT: UNDEFINED
BITS_PER_PIXEL: 8
SAMPLES_AND_LINES: 5428 7660
HORIZONTAL_DATUM: NAD83
HORIZONTAL_COORDINATE_SYSTEM: UTM
COORDINATE_ZONE: 11
HORIZONTAL_UNITS: METERS
HORIZONTAL_RESOLUTION: 1.00000
SECONDARY_HORIZONTAL_DATUM: NAD27
XY_ORIGIN: 623667.00000 5401443.00000
SECONDARY_XY_ORIGIN: 623744.81000 5401230.14300
NATION: US
STATE: MT
NW_QUAD_CORNER_XY: 624042.24900 5401038.62500
NE_QUAD_CORNER_XY: 628636.22500 5401142.26700
SE_QUAD_CORNERY_XY: 628795.72800 5394195.19500
SW_QUAD_CORNER_XY: 624196.05300 5394091.52400
SECONDARY_NW_QUAD_XY: 624046.21300 5400819.67100
SECONDARY_NE_QUAD_XY: 628640.33600 5400923.31600
SECONDARY_SE_QUAD_XY: 628799.83900 5393976.25000
SECONDARY_SW_QUAD_XY: 624200.01700 5393872.57500
RMSE_XY: 3.20000
IMAGE_SOURCE: BLACK AND WHITE FILM
SOURCE_IMAGE_ID: NAPP 8418 109
SOURCE_IMAGE_DATE: 1995 8 5
SOURCE_DEM_DATE: 1997 2 26
AGENCY: WESTERN MAPPING CENTER (WMC)
PRODUCER: USFS
PRODUCTION_SYSTEM: DV2.6.3 10/9OV2.4 5/95
COMPRESSION: UNDEFINED
STANDARD_VERSION: 1996 12
METADATA_DATE: 1997 11 2
DATA_FILE_SIZE: 41583908
BYTE_COUNT: 5428
