FILENAME: O4811523.SES.56462.tif
QUADRANGLE_NAME: MCGUIRE MOUNTAIN
QUADRANT: SE
WEST_LONGITUDE: -115 11 15.00000
EAST_LONGITUDE: -115 7 30.00000
NORTH_LATITUDE: 48 41 15.00000
SOUTH_LATITUDE: 48 37 30.00000
PRODUCTION_DATE: 1997 3 4
RASTER_ORDER: LEFT_RIGHT/TOP_BOTTOM
BAND_ORGANIZATION: SINGLE FILE
BAND_CONTENT: BLACK&WHITE
BAND_CONTENT: UNDEFINED
BAND_CONTENT: UNDEFINED
BITS_PER_PIXEL: 8
SAMPLES_AND_LINES: 5444 7668
HORIZONTAL_DATUM: NAD83
HORIZONTAL_COORDINATE_SYSTEM: UTM
COORDINATE_ZONE: 11
HORIZONTAL_UNITS: METERS
HORIZONTAL_RESOLUTION: 1.00000
SECONDARY_HORIZONTAL_DATUM: NAD27
XY_ORIGIN: 633021.00000 5394715.00000
SECONDARY_XY_ORIGIN: 633098.00000 5394503.00000
NATION: US
STATE: MT
NW_QUAD_CORNER_XY: 633395.38400 5394302.63800
NE_QUAD_CORNER_XY: 637995.01900 5394413.85300
SE_QUAD_CORNERY_XY: 638165.75600 5387466.91100
SW_QUAD_CORNER_XY: 633560.42700 5387355.66500
SECONDARY_NW_QUAD_XY: 633399.64100 5394083.69600
SECONDARY_NE_QUAD_XY: 637999.42300 5394194.91400
SECONDARY_SE_QUAD_XY: 638170.16000 5387247.97800
SECONDARY_SW_QUAD_XY: 633564.68400 5387136.72900
RMSE_XY: 3.50000
IMAGE_SOURCE: BLACK AND WHITE FILM
SOURCE_IMAGE_ID: NAPP 8420 150
SOURCE_IMAGE_DATE: 1995 8 20
SOURCE_DEM_DATE: 1997 3 4
AGENCY: WESTERN MAPPING CENTER (WMC)
PRODUCER: USFS
PRODUCTION_SYSTEM: DV2.6.3 10/9OV2.4 5/95
COMPRESSION: UNDEFINED
STANDARD_VERSION: 1996 12
METADATA_DATE: 1997 11 4
DATA_FILE_SIZE: 41750036
BYTE_COUNT: 5444
