FILENAME: O4811524.SWS.56442.tif
QUADRANGLE_NAME: PINKHAM MOUNTAIN
QUADRANT: SW
WEST_LONGITUDE: -115 7 30.00000
EAST_LONGITUDE: -115 3 45.00000
NORTH_LATITUDE: 48 41 15.00000
SOUTH_LATITUDE: 48 37 30.00000
PRODUCTION_DATE: 1997 3 7
RASTER_ORDER: LEFT_RIGHT/TOP_BOTTOM
BAND_ORGANIZATION: SINGLE FILE
BAND_CONTENT: BLACK&WHITE
BAND_CONTENT: UNDEFINED
BAND_CONTENT: UNDEFINED
BITS_PER_PIXEL: 8
SAMPLES_AND_LINES: 5452 7671
HORIZONTAL_DATUM: NAD83
HORIZONTAL_COORDINATE_SYSTEM: UTM
COORDINATE_ZONE: 11
HORIZONTAL_UNITS: METERS
HORIZONTAL_RESOLUTION: 1.00000
SECONDARY_HORIZONTAL_DATUM: NAD27
XY_ORIGIN: 637621.00000 5394830.00000
SECONDARY_XY_ORIGIN: 637698.79400 5394617.13100
NATION: US
STATE: MT
NW_QUAD_CORNER_XY: 637995.01900 5394413.85300
NE_QUAD_CORNER_XY: 642594.63300 5394528.84000
SE_QUAD_CORNERY_XY: 642771.06500 5387581.93000
SW_QUAD_CORNER_XY: 638165.75600 5387466.91100
SECONDARY_NW_QUAD_XY: 637999.42300 5394194.91400
SECONDARY_NE_QUAD_XY: 642599.18400 5394309.90500
SECONDARY_SE_QUAD_XY: 642775.61600 5387363.00100
SECONDARY_SW_QUAD_XY: 638170.16000 5387247.97800
RMSE_XY: 3.90000
IMAGE_SOURCE: BLACK AND WHITE FILM
SOURCE_IMAGE_ID: NAPP 8420 127
SOURCE_IMAGE_DATE: 1995 8 20
SOURCE_DEM_DATE: 1997 3 7
AGENCY: WESTERN MAPPING CENTER (WMC)
PRODUCER: USFS
PRODUCTION_SYSTEM: DV2.6.3 10/9OV2.4 5/95
COMPRESSION: UNDEFINED
STANDARD_VERSION: 1996 12
METADATA_DATE: 1997 11 2
DATA_FILE_SIZE: 41827744
BYTE_COUNT: 5452
