FILENAME: O4811525.SES.56719.tif
QUADRANGLE_NAME: KILBRENNAN LAKE
QUADRANT: SE
WEST_LONGITUDE: -115 56 15.00000
EAST_LONGITUDE: -115 52 30.00000
NORTH_LATITUDE: 48 33 45.00000
SOUTH_LATITUDE: 48 30 0.00000
PRODUCTION_DATE: 1997 2 23
RASTER_ORDER: LEFT_RIGHT/TOP_BOTTOM
BAND_ORGANIZATION: SINGLE FILE
BAND_CONTENT: BLACK&WHITE
BAND_CONTENT: UNDEFINED
BAND_CONTENT: UNDEFINED
BITS_PER_PIXEL: 8
SAMPLES_AND_LINES: 5389 7625
HORIZONTAL_DATUM: NAD83
HORIZONTAL_COORDINATE_SYSTEM: UTM
COORDINATE_ZONE: 11
HORIZONTAL_UNITS: METERS
HORIZONTAL_RESOLUTION: 1.00000
SECONDARY_HORIZONTAL_DATUM: NAD27
XY_ORIGIN: 578016.00000 5379739.00000
SECONDARY_XY_ORIGIN: 578093.09000 5379527.41000
NATION: US
STATE: MT
NW_QUAD_CORNER_XY: 578391.82000 5379367.73000
NE_QUAD_CORNER_XY: 583003.03000 5379433.73000
SE_QUAD_CORNERY_XY: 583105.25000 5372486.63000
SW_QUAD_CORNER_XY: 578488.37000 5372420.62000
SECONDARY_NW_QUAD_XY: 578394.32000 5379148.77000
SECONDARY_NE_QUAD_XY: 583005.67000 5379214.77000
SECONDARY_SE_QUAD_XY: 583107.90000 5372267.68000
SECONDARY_SW_QUAD_XY: 578490.86000 5372201.66000
RMSE_XY: 3.10000
IMAGE_SOURCE: BLACK AND WHITE FILM
SOURCE_IMAGE_ID: NAPP 8422 9
SOURCE_IMAGE_DATE: 1995 7 28
SOURCE_IMAGE_ID: NAPP 8422 7
SOURCE_IMAGE_DATE: 1995 7 28
SOURCE_DEM_DATE: 1997 2 23
AGENCY: WESTERN MAPPING CENTER (WMC)
PRODUCER: USFS
PRODUCTION_SYSTEM: DV2.6.3 10/9OV2.4 5/95
COMPRESSION: UNDEFINED
STANDARD_VERSION: 1996 12
METADATA_DATE: 1997 11 2
DATA_FILE_SIZE: 41096514
BYTE_COUNT: 5389
