FILENAME: O4811525.NES.56720.tif
QUADRANGLE_NAME: KILBRENNAN LAKE
QUADRANT: NE
WEST_LONGITUDE: -115 56 15.00000
EAST_LONGITUDE: -115 52 30.00000
NORTH_LATITUDE: 48 37 30.00000
SOUTH_LATITUDE: 48 33 45.00000
PRODUCTION_DATE: 1997 2 23
RASTER_ORDER: LEFT_RIGHT/TOP_BOTTOM
BAND_ORGANIZATION: SINGLE FILE
BAND_CONTENT: BLACK&WHITE
BAND_CONTENT: UNDEFINED
BAND_CONTENT: UNDEFINED
BITS_PER_PIXEL: 8
SAMPLES_AND_LINES: 5385 7625
HORIZONTAL_DATUM: NAD83
HORIZONTAL_COORDINATE_SYSTEM: UTM
COORDINATE_ZONE: 11
HORIZONTAL_UNITS: METERS
HORIZONTAL_RESOLUTION: 1.00000
SECONDARY_HORIZONTAL_DATUM: NAD27
XY_ORIGIN: 577919.00000 5386686.00000
SECONDARY_XY_ORIGIN: 577996.22000 5386474.31000
NATION: US
STATE: MT
NW_QUAD_CORNER_XY: 578295.18000 5386314.92000
NE_QUAD_CORNER_XY: 582900.71000 5386380.90000
SE_QUAD_CORNERY_XY: 583003.03000 5379433.73000
SW_QUAD_CORNER_XY: 578391.82000 5379367.73000
SECONDARY_NW_QUAD_XY: 578297.68000 5386095.95000
SECONDARY_NE_QUAD_XY: 582903.35000 5386161.93000
SECONDARY_SE_QUAD_XY: 583005.67000 5379214.77000
SECONDARY_SW_QUAD_XY: 578394.32000 5379148.77000
RMSE_XY: 3.10000
IMAGE_SOURCE: BLACK AND WHITE FILM
SOURCE_IMAGE_ID: NAPP 8422 7
SOURCE_IMAGE_DATE: 1995 7 28
SOURCE_IMAGE_ID: NAPP 8422 5
SOURCE_IMAGE_DATE: 1995 7 28
SOURCE_DEM_DATE: 1997 2 23
AGENCY: WESTERN MAPPING CENTER (WMC)
PRODUCER: USFS
PRODUCTION_SYSTEM: DV2.6.3 10/9OV2.4 5/95
COMPRESSION: UNDEFINED
STANDARD_VERSION: 1996 12
METADATA_DATE: 1997 11 2
DATA_FILE_SIZE: 41066010
BYTE_COUNT: 5385
