FILENAME: O4811526.SWS.56699.tif
QUADRANGLE_NAME: PULPIT MOUNTAIN
QUADRANT: SW
WEST_LONGITUDE: -115 52 30.00000
EAST_LONGITUDE: -115 48 45.00000
NORTH_LATITUDE: 48 33 45.00000
SOUTH_LATITUDE: 48 30 0.00000
PRODUCTION_DATE: 1997 2 28
RASTER_ORDER: LEFT_RIGHT/TOP_BOTTOM
BAND_ORGANIZATION: SINGLE FILE
BAND_CONTENT: BLACK&WHITE
BAND_CONTENT: UNDEFINED
BAND_CONTENT: UNDEFINED
BITS_PER_PIXEL: 8
SAMPLES_AND_LINES: 5396 7628
HORIZONTAL_DATUM: NAD83
HORIZONTAL_COORDINATE_SYSTEM: UTM
COORDINATE_ZONE: 11
HORIZONTAL_UNITS: METERS
HORIZONTAL_RESOLUTION: 1.00000
SECONDARY_HORIZONTAL_DATUM: NAD27
XY_ORIGIN: 582628.00000 5379805.00000
SECONDARY_XY_ORIGIN: 582705.07600 5379593.30400
NATION: US
STATE: MT
NW_QUAD_CORNER_XY: 583002.96300 5379433.77200
NE_QUAD_CORNER_XY: 587614.16000 5379503.54300
SE_QUAD_CORNERY_XY: 587722.06500 5372556.46400
SW_QUAD_CORNER_XY: 583105.18700 5372486.67500
SECONDARY_NW_QUAD_XY: 583005.60500 5379214.81100
SECONDARY_NE_QUAD_XY: 587616.94900 5379284.58500
SECONDARY_SE_QUAD_XY: 587724.85400 5372337.51400
SECONDARY_SW_QUAD_XY: 583107.83000 5372267.72200
RMSE_XY: 3.20000
IMAGE_SOURCE: BLACK AND WHITE FILM
SOURCE_IMAGE_ID: NAPP 8421 191
SOURCE_IMAGE_DATE: 1995 8 21
SOURCE_DEM_DATE: 1997 2 28
AGENCY: WESTERN MAPPING CENTER (WMC)
PRODUCER: USFS
PRODUCTION_SYSTEM: DV2.6.3 10/9OV2.4 5/95
COMPRESSION: UNDEFINED
STANDARD_VERSION: 1996 12
METADATA_DATE: 1997 11 2
DATA_FILE_SIZE: 41166084
BYTE_COUNT: 5396
