FILENAME: O4811526.SES.56677.tif
QUADRANGLE_NAME: PULPIT MOUNTAIN
QUADRANT: SE
WEST_LONGITUDE: -115 48 45.00000
EAST_LONGITUDE: -115 45 0.00000
NORTH_LATITUDE: 48 33 45.00000
SOUTH_LATITUDE: 48 30 0.00000
PRODUCTION_DATE: 1997 2 28
RASTER_ORDER: LEFT_RIGHT/TOP_BOTTOM
BAND_ORGANIZATION: SINGLE FILE
BAND_CONTENT: BLACK&WHITE
BAND_CONTENT: UNDEFINED
BAND_CONTENT: UNDEFINED
BITS_PER_PIXEL: 8
SAMPLES_AND_LINES: 5402 7633
HORIZONTAL_DATUM: NAD83
HORIZONTAL_COORDINATE_SYSTEM: UTM
COORDINATE_ZONE: 11
HORIZONTAL_UNITS: METERS
HORIZONTAL_RESOLUTION: 1.00000
SECONDARY_HORIZONTAL_DATUM: NAD27
XY_ORIGIN: 587239.00000 5379886.00000
SECONDARY_XY_ORIGIN: 587316.06000 5379674.20000
NATION: US
STATE: MT
NW_QUAD_CORNER_XY: 587614.23000 5379503.50000
NE_QUAD_CORNER_XY: 592225.41000 5379577.05000
SE_QUAD_CORNERY_XY: 592339.00000 5372629.99000
SW_QUAD_CORNER_XY: 587722.13000 5372556.42000
SECONDARY_NW_QUAD_XY: 587617.02000 5379284.54000
SECONDARY_NE_QUAD_XY: 592228.35000 5379358.09000
SECONDARY_SE_QUAD_XY: 592341.93000 5372411.04000
SECONDARY_SW_QUAD_XY: 587724.92000 5372337.47000
RMSE_XY: 3.20000
IMAGE_SOURCE: BLACK AND WHITE FILM
SOURCE_IMAGE_ID: NAPP 8421 163
SOURCE_IMAGE_DATE: 1995 8 20
SOURCE_IMAGE_ID: NAPP 8421 165
SOURCE_IMAGE_DATE: 1995 8 20
SOURCE_IMAGE_ID: NAPP 8421 161
SOURCE_IMAGE_DATE: 1995 8 20
SOURCE_IMAGE_ID: NAPP 8421 38
SOURCE_IMAGE_DATE: 1995 8 20
SOURCE_DEM_DATE: 1997 2 28
AGENCY: WESTERN MAPPING CENTER (WMC)
PRODUCER: USFS
PRODUCTION_SYSTEM: DV2.6.3 10/9OV2.4 5/95
COMPRESSION: UNDEFINED
STANDARD_VERSION: 1996 12
METADATA_DATE: 1997 11 2
DATA_FILE_SIZE: 41238868
BYTE_COUNT: 5402
