FILENAME: O4811527.SES.56631.tif
QUADRANGLE_NAME: TURNER MOUNTAIN
QUADRANT: SE
WEST_LONGITUDE: -115 41 15.00000
EAST_LONGITUDE: -115 37 30.00000
NORTH_LATITUDE: 48 33 45.00000
SOUTH_LATITUDE: 48 30 0.00000
PRODUCTION_DATE: 1997 3 1
RASTER_ORDER: LEFT_RIGHT/TOP_BOTTOM
BAND_ORGANIZATION: SINGLE FILE
BAND_CONTENT: BLACK&WHITE
BAND_CONTENT: UNDEFINED
BAND_CONTENT: UNDEFINED
BITS_PER_PIXEL: 8
SAMPLES_AND_LINES: 5412 7638
HORIZONTAL_DATUM: NAD83
HORIZONTAL_COORDINATE_SYSTEM: UTM
COORDINATE_ZONE: 11
HORIZONTAL_UNITS: METERS
HORIZONTAL_RESOLUTION: 1.00000
SECONDARY_HORIZONTAL_DATUM: NAD27
XY_ORIGIN: 596461.00000 5380036.00000
SECONDARY_XY_ORIGIN: 596538.15400 5379823.99400
NATION: US
STATE: MT
NW_QUAD_CORNER_XY: 596836.51400 5379654.40300
NE_QUAD_CORNER_XY: 601447.67000 5379735.49200
SE_QUAD_CORNERY_XY: 601572.61800 5372788.47500
SW_QUAD_CORNER_XY: 596955.78000 5372707.36500
SECONDARY_NW_QUAD_XY: 596839.59700 5379435.44900
SECONDARY_NE_QUAD_XY: 601450.90000 5379516.54100
SECONDARY_SE_QUAD_XY: 601575.84700 5372569.53100
SECONDARY_SW_QUAD_XY: 596958.86300 5372488.41900
RMSE_XY: 3.50000
IMAGE_SOURCE: BLACK AND WHITE FILM
SOURCE_IMAGE_ID: NAPP 8421 108
SOURCE_IMAGE_DATE: 1995 8 20
SOURCE_DEM_DATE: 1997 3 1
AGENCY: WESTERN MAPPING CENTER (WMC)
PRODUCER: USFS
PRODUCTION_SYSTEM: DV2.6.1 6/95OV2.4 5/95
COMPRESSION: UNDEFINED
STANDARD_VERSION: 1996 12
METADATA_DATE: 1997 11 2
DATA_FILE_SIZE: 41342268
BYTE_COUNT: 5412
