FILENAME: O4811527.NES.56632.tif
QUADRANGLE_NAME: TURNER MOUNTAIN
QUADRANT: NE
WEST_LONGITUDE: -115 41 15.00000
EAST_LONGITUDE: -115 37 30.00000
NORTH_LATITUDE: 48 37 30.00000
SOUTH_LATITUDE: 48 33 45.00000
PRODUCTION_DATE: 1997 3 1
RASTER_ORDER: LEFT_RIGHT/TOP_BOTTOM
BAND_ORGANIZATION: SINGLE FILE
BAND_CONTENT: BLACK&WHITE
BAND_CONTENT: UNDEFINED
BAND_CONTENT: UNDEFINED
BITS_PER_PIXEL: 8
SAMPLES_AND_LINES: 5409 7640
HORIZONTAL_DATUM: NAD83
HORIZONTAL_COORDINATE_SYSTEM: UTM
COORDINATE_ZONE: 11
HORIZONTAL_UNITS: METERS
HORIZONTAL_RESOLUTION: 1.00000
SECONDARY_HORIZONTAL_DATUM: NAD27
XY_ORIGIN: 596342.00000 5386988.00000
SECONDARY_XY_ORIGIN: 596419.27000 5386775.90000
NATION: US
STATE: MT
NW_QUAD_CORNER_XY: 596717.20000 5386601.47000
NE_QUAD_CORNER_XY: 601322.67000 5386682.54000
SE_QUAD_CORNERY_XY: 601447.74000 5379735.45000
SW_QUAD_CORNER_XY: 596836.58000 5379654.36000
SECONDARY_NW_QUAD_XY: 596720.28000 5386382.51000
SECONDARY_NE_QUAD_XY: 601325.90000 5386463.58000
SECONDARY_SE_QUAD_XY: 601450.97000 5379516.50000
SECONDARY_SW_QUAD_XY: 596839.66000 5379435.41000
RMSE_XY: 4.20000
IMAGE_SOURCE: BLACK AND WHITE FILM
SOURCE_IMAGE_ID: NAPP 8421 106
SOURCE_IMAGE_DATE: 1995 8 20
SOURCE_IMAGE_ID: NAPP 8421 108
SOURCE_IMAGE_DATE: 1995 8 20
SOURCE_DEM_DATE: 1997 3 1
AGENCY: WESTERN MAPPING CENTER (WMC)
PRODUCER: USFS
PRODUCTION_SYSTEM: DV2.6.1 6/95OV2.4 5/95
COMPRESSION: UNDEFINED
STANDARD_VERSION: 1996 12
METADATA_DATE: 1997 11 2
DATA_FILE_SIZE: 41330169
BYTE_COUNT: 5409
